BEGIN:VCALENDAR
VERSION:2.0
PRODID:-//ChamberMaster//Event Calendar 2.0//EN
METHOD:PUBLISH
X-PUBLISHED-TTL:P3D
REFRESH-INTERVAL:P3D
CALSCALE:GREGORIAN
BEGIN:VEVENT
DTSTART:20160428T120000Z
DTEND:20160428T140000Z
X-MICROSOFT-CDO-ALLDAYEVENT:FALSE
SUMMARY:Leadership FW Presents Breakfast University
DESCRIPTION:Top leaders in higher education discuss how their institutions are driving the economy and shaping the future of Fort Worth
X-ALT-DESC;FMTTYPE=text/html:Top leaders in higher education discuss how their institutions are driving the economy and shaping the future of Fort Worth
LOCATION:Fort Worth Club\, 306 W. 7th St.\, Ft. Worth\, TX
UID:e.1262.2474
SEQUENCE:3
DTSTAMP:20260422T091351Z
URL:https://business.fwmbcc.org/events/details/leadership-fw-presents-breakfast-university-04-28-2016-2474
END:VEVENT

END:VCALENDAR
