BEGIN:VCALENDAR
VERSION:2.0
PRODID:-//ChamberMaster//Event Calendar 2.0//EN
METHOD:PUBLISH
X-PUBLISHED-TTL:P3D
REFRESH-INTERVAL:P3D
CALSCALE:GREGORIAN
BEGIN:VEVENT
DTSTART:20170301T003000Z
DTEND:20170301T030000Z
X-MICROSOFT-CDO-ALLDAYEVENT:FALSE
SUMMARY:Last Night in Black History
DESCRIPTION:The entertainment event\, emceed by Michael D' Andre Childs from Artist Unplugged\, will feature a unique reception preceding a theatrical geological timeline showcasing live fashion designs from students at The Art Institute of Dallas\, tribal dance and music numbers\, pre- history storytelling\, poetry speaks and honoring influential black leaders in history. Please consider joining us at this educational play.
X-ALT-DESC;FMTTYPE=text/html:<span style="font-family:arial\;"><span style="letter-spacing:.4pt\;">The entertainment event\, emceed by Michael D&#39\; Andre Childs from Artist Unplugged\,&nbsp\;will feature a unique reception preceding a theatrical geological timeline showcasing live fashion designs from students at The Art Institute of Dallas\, tribal dance and music numbers\, pre- history storytelling\, poetry speaks and honoring influential black leaders in history. Please consider joining us at this educational play.</span></span>
LOCATION:J Erik Jonsson Central Library 1515 Young Street Dallas\, TX 75201
UID:e.1262.2906
SEQUENCE:3
DTSTAMP:20260421T173219Z
URL:https://business.fwmbcc.org/events/details/last-night-in-black-history-2906
END:VEVENT

END:VCALENDAR
