BEGIN:VCALENDAR
VERSION:2.0
PRODID:-//ChamberMaster//Event Calendar 2.0//EN
METHOD:PUBLISH
X-PUBLISHED-TTL:P3D
REFRESH-INTERVAL:P3D
CALSCALE:GREGORIAN
BEGIN:VEVENT
DTSTART:20151212T160000Z
DTEND:20151214T010000Z
X-MICROSOFT-CDO-ALLDAYEVENT:FALSE
SUMMARY:Kwanzaa Fest at Fair Park-25th Anniversary Celebration
DESCRIPTION:Kwanzaa Fest at Fair Park is celebrating it's 25th Anniversary!!!!
X-ALT-DESC;FMTTYPE=text/html:Kwanzaa Fest at Fair Park is celebrating it&#39\;s 25th Anniversary!!!!
LOCATION:Fair Park Automobile Building\, Dallas Texas
UID:e.1262.2309
SEQUENCE:3
DTSTAMP:20260422T122043Z
URL:https://business.fwmbcc.org/events/details/kwanzaa-fest-at-fair-park-25th-anniversary-celebration-12-12-2015-2309
END:VEVENT

END:VCALENDAR
