BEGIN:VCALENDAR
VERSION:2.0
PRODID:-//ChamberMaster//Event Calendar 2.0//EN
METHOD:PUBLISH
X-PUBLISHED-TTL:P3D
REFRESH-INTERVAL:P3D
CALSCALE:GREGORIAN
BEGIN:VEVENT
DTSTART:20151113T013000Z
DTEND:20151113T040000Z
X-MICROSOFT-CDO-ALLDAYEVENT:FALSE
SUMMARY:Jubilee Theatre presents Obituary a Comedy-ONE NIGHT ONLY
DESCRIPTION:Obituary a comedy written by Akin Babatunde-You'll laugh yourself to death!!! Proceeds benefit the Jubilee Theatre. Box Dinner and libations Provided
X-ALT-DESC;FMTTYPE=text/html:Obituary a comedy written by Akin Babatunde-You&#39\;ll laugh yourself to death!!! Proceeds benefit the Jubilee Theatre. Box Dinner and libations Provided
LOCATION:Jubilee Theatre-506 Main Street\, Ft. Worth TX
UID:e.1262.2297
SEQUENCE:3
DTSTAMP:20260422T105435Z
URL:https://business.fwmbcc.org/events/details/jubilee-theatre-presents-obituary-a-comedy-one-night-only-11-12-2015-2297
END:VEVENT

END:VCALENDAR
