BEGIN:VCALENDAR
VERSION:2.0
PRODID:-//ChamberMaster//Event Calendar 2.0//EN
METHOD:PUBLISH
X-PUBLISHED-TTL:P3D
REFRESH-INTERVAL:P3D
CALSCALE:GREGORIAN
BEGIN:VEVENT
DTSTART:20160409T170000Z
DTEND:20160409T220000Z
X-MICROSOFT-CDO-ALLDAYEVENT:FALSE
SUMMARY:JA Company Program Trade Fair this Saturday
DESCRIPTION:A Student Companies will set up shop in the center court area of Northeast Mall to sell their products and gain retail experience.  These students have become true entrepreneurs\, going through the entire start-up and operation of a business.  The students will be competing against one another for titles of Best in Show\, Best Booth\, Most Innovative Product\, and more!\n\n\n\nPlease see below for a list of student companies and their products!\n\n \n\nCHAAO:\n\nRaw aluminum ingotts $10 per pound\, aluminum artwork\, $35\n\nELampCo:\n\nWine bottle lamps\, $38\n\nLotus Pulsera:\n\nHandmade\, beaded bracelets\, $10\n\nScout:\n\nGPS dog collars\, $45\n\nTriple R Cases:\n\nUnique cell phone cases made from recycled materials\, $12-15 each\n\nWarm and Fuzzy:\n\nFuzzy blanket and sock bundles\, $16\n\nWicWorks:\n\nHandmade\, scented candles- $15 traditional candle\, $20 for shimmery sand candles
X-ALT-DESC;FMTTYPE=text/html:<br />\n<span style="color: rgb(34\, 34\, 34)\; font-family: Calibri\, sans-serif\; font-size: 14.6667px\; line-height: normal\;">A Student Companies will set up shop in the center court area of Northeast Mall to sell their products and gain retail experience.&nbsp\; These students have become true entrepreneurs\, going through the entire start-up and operation of a business.&nbsp\; The students will be competing against one another for titles of Best in Show\, Best Booth\, Most Innovative Product\, and more!</span><br />\n<br />\nPlease see below for a list of student companies and their products!<br />\n&nbsp\;<br />\n<strong><span style="color:black\;">CHAAO:</span></strong><br />\n<em><span style="color:black\;">Raw aluminum ingotts $10 per pound\, aluminum artwork\, $35</span></em><br />\n<strong><span style="color:black\;">ELampCo:</span></strong><br />\n<em><span style="color:black\;">Wine bottle lamps\, $38</span></em><br />\n<strong><span style="color:black\;">Lotus Pulsera:</span></strong><br />\n<em><span style="color:black\;">Handmade\, beaded bracelets\, $10</span></em><br />\n<strong><span style="color:black\;">Scout:</span></strong><br />\n<em><span style="color:black\;">GPS dog collars\, $45</span></em><br />\n<strong><span style="color:black\;">Triple R Cases:</span></strong><br />\n<em><span style="color:black\;">Unique cell phone cases made from recycled materials\, $12-15 each</span></em><br />\n<strong><span style="color:black\;">Warm and Fuzzy:</span></strong><br />\n<em><span style="color:black\;">Fuzzy blanket and sock bundles\, $16</span></em><br />\n<strong><span style="color:black\;">WicWorks:</span></strong><br />\n<em><span style="color:black\;">Handmade\, scented candles- $15 traditional candle\, $20 for shimmery sand candles</span></em><br />\n&nbsp\;
LOCATION:North East Mall\, Center Court Near Macy's and Starbucks 1101 Melbourne Rd\, Hurst\, TX 76053
UID:e.1262.2840
SEQUENCE:3
DTSTAMP:20260422T091421Z
URL:https://business.fwmbcc.org/events/details/ja-company-program-trade-fair-this-saturday-04-09-2016-2840
END:VEVENT

END:VCALENDAR
