BEGIN:VCALENDAR
VERSION:2.0
PRODID:-//ChamberMaster//Event Calendar 2.0//EN
METHOD:PUBLISH
X-PUBLISHED-TTL:P3D
REFRESH-INTERVAL:P3D
CALSCALE:GREGORIAN
BEGIN:VEVENT
DTSTART:20160311T000000Z
DTEND:20160311T020000Z
X-MICROSOFT-CDO-ALLDAYEVENT:FALSE
SUMMARY:Introduction to Web Development
DESCRIPTION:Learn the basics of building Web pages. This course introduces the essential elements of design and development\, including HTML\, style sheets\, information architecture and usability.
X-ALT-DESC;FMTTYPE=text/html:Learn the basics of building Web pages. This course introduces the essential elements of design and development\, including HTML\, style sheets\, information architecture and usability.
LOCATION:eSkills Library & Job Center at 2800 Stark St.\, Ft. Worth Tx
UID:e.1262.2496
SEQUENCE:3
DTSTAMP:20260422T103629Z
URL:https://business.fwmbcc.org/events/details/introduction-to-web-development-03-10-2016-2496
END:VEVENT

END:VCALENDAR
