BEGIN:VCALENDAR
VERSION:2.0
PRODID:-//ChamberMaster//Event Calendar 2.0//EN
METHOD:PUBLISH
X-PUBLISHED-TTL:P3D
REFRESH-INTERVAL:P3D
CALSCALE:GREGORIAN
BEGIN:VEVENT
DTSTART:20160405T230000Z
DTEND:20160406T010000Z
X-MICROSOFT-CDO-ALLDAYEVENT:FALSE
SUMMARY:Intro. to Adobe Photoshop
DESCRIPTION:Learn to create and edit professional quality graphics using the industry standard: Photoshop. Space is limited so prospective students must complete an application and brief computer skills assessment.
X-ALT-DESC;FMTTYPE=text/html:Learn to create and edit professional quality graphics using the industry standard: Photoshop. <strong>Space is limited so prospective students must complete an application and brief computer skills assessment.</strong>
LOCATION:eSkills Library & Job Center at 2800 Stark St.\, Ft. Worth Tx
UID:e.1262.2493
SEQUENCE:3
DTSTAMP:20260422T091418Z
URL:https://business.fwmbcc.org/events/details/intro-to-adobe-photoshop-04-05-2016-2493
END:VEVENT

END:VCALENDAR
