BEGIN:VCALENDAR
VERSION:2.0
PRODID:-//ChamberMaster//Event Calendar 2.0//EN
METHOD:PUBLISH
X-PUBLISHED-TTL:P3D
REFRESH-INTERVAL:P3D
CALSCALE:GREGORIAN
BEGIN:VEVENT
DTSTART:20160420T220000Z
DTEND:20160421T000000Z
X-MICROSOFT-CDO-ALLDAYEVENT:FALSE
SUMMARY:INTENTIONAL NETWORKING: How to Network with Purpose
DESCRIPTION:Fort Worth Metropolitan Black Chamber of Commerce - Women's Business Division Presents:\n\nINTENTIONAL NETWORKING: How to Network with Purpose\n\nFriday\, May 20th 5-7pm\n\nMoncrief Cancer Institute | UT Southwestern\n\n400 W. Magnolia Ave.\n\nFort Worth\, TX 76104\n\nGuest Speaker: Ken Reeves\, Vice President (CHRO)\n\nHuman Resources & Organizational Development\n\nFreese and Nichols\, Inc.
X-ALT-DESC;FMTTYPE=text/html:<p style="color: rgb(34\, 34\, 34)\; font-family: arial\, sans-serif\; font-size: 12.8px\; line-height: normal\;">Fort Worth Metropolitan Black Chamber of Commerce -&nbsp\;Women&#39\;s Business Division&nbsp\;Presents:</p>\n\n<p style="color: rgb(34\, 34\, 34)\; font-family: arial\, sans-serif\; font-size: 12.8px\; line-height: normal\;"><strong>INTENTIONAL NETWORKING: How to Network with Purpose</strong></p>\n\n<p style="color: rgb(34\, 34\, 34)\; font-family: arial\, sans-serif\; font-size: 12.8px\; line-height: normal\;"><span class="aBn" data-term="goog_1972596613" style="border-bottom-width: 1px\; border-bottom-style: dashed\; border-bottom-color: rgb(204\, 204\, 204)\; position: relative\; top: -2px\; z-index: 0\;" tabindex="0"><span class="aQJ" style="position: relative\; top: 2px\; z-index: -1\;">Friday\, May 20th</span></span>&nbsp\;<span class="aBn" data-term="goog_1972596614" style="border-bottom-width: 1px\; border-bottom-style: dashed\; border-bottom-color: rgb(204\, 204\, 204)\; position: relative\; top: -2px\; z-index: 0\;" tabindex="0"><span class="aQJ" style="position: relative\; top: 2px\; z-index: -1\;">5-7pm</span></span></p>\n\n<p style="color: rgb(34\, 34\, 34)\; font-family: arial\, sans-serif\; font-size: 12.8px\; line-height: normal\;">Moncrief Cancer Institute | UT Southwestern</p>\n\n<p style="color: rgb(34\, 34\, 34)\; font-family: arial\, sans-serif\; font-size: 12.8px\; line-height: normal\;">400 W. Magnolia Ave.</p>\n\n<p style="color: rgb(34\, 34\, 34)\; font-family: arial\, sans-serif\; font-size: 12.8px\; line-height: normal\;">Fort Worth\, TX 76104</p>\n\n<p style="color: rgb(34\, 34\, 34)\; font-family: arial\, sans-serif\; font-size: 12.8px\; line-height: normal\;">Guest Speaker: Ken Reeves\, Vice President (CHRO)</p>\n\n<p style="color: rgb(34\, 34\, 34)\; font-family: arial\, sans-serif\; font-size: 12.8px\; line-height: normal\;">Human Resources &amp\; Organizational Development</p>\n\n<p style="color: rgb(34\, 34\, 34)\; font-family: arial\, sans-serif\; font-size: 12.8px\; line-height: normal\;">Freese and Nichols\, Inc.</p>\n
LOCATION:Moncrief Cancer Institute | UT Southwestern 400 W. Magnolia Ave. Fort Worth\, TX 76104
UID:e.1262.2846
SEQUENCE:3
DTSTAMP:20260422T091210Z
URL:https://business.fwmbcc.org/events/details/intentional-networking-how-to-network-with-purpose-04-20-2016-2846
END:VEVENT

END:VCALENDAR
