BEGIN:VCALENDAR
VERSION:2.0
PRODID:-//ChamberMaster//Event Calendar 2.0//EN
METHOD:PUBLISH
X-PUBLISHED-TTL:P3D
REFRESH-INTERVAL:P3D
CALSCALE:GREGORIAN
BEGIN:VEVENT
DTSTART:20150922T163000Z
DTEND:20150922T180000Z
X-MICROSOFT-CDO-ALLDAYEVENT:FALSE
SUMMARY:Idea Works FW-Great Ideas Series
DESCRIPTION:Great Ideas Series: Chats with thought leaders\, business leaders and visionaries exploring pathways of ideas and what makes them great.  Speaker is Ann Loudon\, Chancellor's Associate for Strategic Partnerships at TCU.  Moderator Kristin Sullivan is Assoc. VP for Media Relations & Strategic Communications\, Univ. of Texas at Arlington
X-ALT-DESC;FMTTYPE=text/html:Great Ideas Series: Chats with thought leaders\, business leaders and visionaries exploring pathways of ideas and what makes them great. &nbsp\;Speaker is Ann Loudon\, Chancellor&#39\;s Associate for Strategic Partnerships at TCU. &nbsp\;Moderator Kristin Sullivan is Assoc. VP for Media Relations &amp\; Strategic Communications\, Univ. of Texas at Arlington
LOCATION:600 E. Rosedale St.\, Fort Worth Texas
UID:e.1262.2228
SEQUENCE:3
DTSTAMP:20260422T073519Z
URL:https://business.fwmbcc.org/events/details/idea-works-fw-great-ideas-series-09-22-2015-2228
END:VEVENT

END:VCALENDAR
