BEGIN:VCALENDAR
VERSION:2.0
PRODID:-//ChamberMaster//Event Calendar 2.0//EN
METHOD:PUBLISH
X-PUBLISHED-TTL:P3D
REFRESH-INTERVAL:P3D
CALSCALE:GREGORIAN
BEGIN:VEVENT
DTSTART:20150916T133000Z
DTEND:20150916T210000Z
X-MICROSOFT-CDO-ALLDAYEVENT:FALSE
SUMMARY:Hungry for Change Summit
DESCRIPTION:Tarrant Area Food Bank & community leaders discussion on hunger and poverty. Workshops\, etc.
X-ALT-DESC;FMTTYPE=text/html:Tarrant Area Food Bank &amp\; community leaders discussion on hunger and poverty. Workshops\, etc.
LOCATION:6 Stones-Campus West Entrance 209 Industrial Blvd.\, Bedford TX
UID:e.1262.2229
SEQUENCE:3
DTSTAMP:20260422T091244Z
URL:https://business.fwmbcc.org/events/details/hungry-for-change-summit-09-16-2015-2229
END:VEVENT

END:VCALENDAR
