BEGIN:VCALENDAR
VERSION:2.0
PRODID:-//ChamberMaster//Event Calendar 2.0//EN
METHOD:PUBLISH
X-PUBLISHED-TTL:P3D
REFRESH-INTERVAL:P3D
CALSCALE:GREGORIAN
BEGIN:VEVENT
DTSTART:20160824T133000Z
DTEND:20160824T203000Z
X-MICROSOFT-CDO-ALLDAYEVENT:FALSE
SUMMARY:HUB Procurement Connection Seminar & EXPO in Austin
DESCRIPTION:Supplier diversity can be beneficial to both buyers and sellers. The goal of the Statewide Historically Underutilized Business (HUB) Program is to actively involve Texas-certified HUBs (minority-owned\, woman-owned and service-disabled veteran-owned businesses) in the state's procurement processes and ensure they receive a fair share of state business.\n\n			On Wednesday\, Aug. 24\, 2016\, the Statewide HUB Program will host the "2016 Procurement Connection Seminar and EXPO" (PCSE) at the Palmer Events Center\, 900 Barton Springs Rd.\, Austin\, Texas. The event\, which is open and free to the public\, will be held from 8:30 a.m. to 3:30 p.m. Online registration is now open:\n			\n				Register now as an exhibitor.\n				Register now for free seminars. \n			\n			Also\, please follow the latest PCSE event updates on Facebook and Twitter and search #PCSEAustin16.\n\n			The PCSE will provide educational workshops on doing business with state and local governments\, as well as the private sector. Texas Comptroller Glenn Hegar will deliver the keynote address\, and representatives from Texas state agencies\, universities and businesses will distribute information about their organizations and procurement needs.\n\n			Visit our webpage\, Texas4HUBs.org\, to learn more about this exciting event!
X-ALT-DESC;FMTTYPE=text/html:<table border="0" cellpadding="0" cellspacing="0" style="color:rgb(34\, 34\, 34)\;font-family:arial\, sans-serif\;font-size:12.8px\;line-height:normal\;width:650px\;" width="894">\n	<tbody>\n		<tr>\n			<td style="padding:0in\;">&nbsp\;</td>\n		</tr>\n		<tr>\n			<td style="padding:0in\;"><span style="font-family:arial\,sans-serif\;"><span style="font-size:13.5pt\;">Supplier diversity can be beneficial to both buyers and sellers. The goal of the Statewide Historically Underutilized Business (HUB) Program&nbsp\;is to actively involve Texas-certified HUBs (minority-owned\, woman-owned and service-disabled veteran-owned businesses) in the state&rsquo\;s procurement processes and ensure they receive a fair share of state business.</span></span><br />\n			<span style="font-family:arial\,sans-serif\;"><span style="font-size:13.5pt\;">On&nbsp\;<span data-term="goog_1163782763" style="border-bottom-width:1px\;border-bottom-style:dashed\;position:relative\;top:-2px\;z-index:0\;" tabindex="0"><span style="position:relative\;top:2px\;z-index:-1\;">Wednesday\, Aug. 24\, 2016</span></span>\, the Statewide HUB Program will host the&nbsp\;<a href="http://links.govdelivery.com/track?type=click&amp\;enid=ZWFzPTEmbWFpbGluZ2lkPTIwMTYwNzA2LjYxMjExOTkxJm1lc3NhZ2VpZD1NREItUFJELUJVTC0yMDE2MDcwNi42MTIxMTk5MSZkYXRhYmFzZWlkPTEwMDEmc2VyaWFsPTE3NzMzNDQ2JmVtYWlsaWQ9ZHBhcmtlckBsb25nYm93LXBhcnRuZXJzLmNvbSZ1c2VyaWQ9ZHBhcmtlckBsb25nYm93LXBhcnRuZXJzLmNvbSZmbD0mZXh0cmE9TXVsdGl2YXJpYXRlSWQ9JiYm&amp\;&amp\;&amp\;101&amp\;&amp\;&amp\;http://comptroller.texas.gov/procurement/prog/hub/" style="color:rgb(17\, 85\, 204)\;" target="_blank">&ldquo\;2016 Procurement Connection Seminar and EXPO&rdquo\; (PCSE)</a>&nbsp\;at the Palmer Events Center\, 900 Barton Springs Rd.\, Austin\, Texas. The event\, which is open and free to the public\, will be held from&nbsp\;<span data-term="goog_1163782764" style="border-bottom-width:1px\;border-bottom-style:dashed\;position:relative\;top:-2px\;z-index:0\;" tabindex="0"><span style="position:relative\;top:2px\;z-index:-1\;">8:30 a.m. to 3:30 p.m.</span></span>&nbsp\;Online registration is now open:</span></span>\n			<ul>\n				<li style="margin:0px 0px 0px 15px\;"><strong><a href="http://links.govdelivery.com/track?type=click&amp\;enid=ZWFzPTEmbWFpbGluZ2lkPTIwMTYwNzA2LjYxMjExOTkxJm1lc3NhZ2VpZD1NREItUFJELUJVTC0yMDE2MDcwNi42MTIxMTk5MSZkYXRhYmFzZWlkPTEwMDEmc2VyaWFsPTE3NzMzNDQ2JmVtYWlsaWQ9ZHBhcmtlckBsb25nYm93LXBhcnRuZXJzLmNvbSZ1c2VyaWQ9ZHBhcmtlckBsb25nYm93LXBhcnRuZXJzLmNvbSZmbD0mZXh0cmE9TXVsdGl2YXJpYXRlSWQ9JiYm&amp\;&amp\;&amp\;102&amp\;&amp\;&amp\;https://apps.portal.texas.gov/feepaylite/tx/cpa/hubreg/order/start" style="color:rgb(17\, 85\, 204)\;" target="_blank"><span style="font-family:arial\,sans-serif\;">Register now as an exhibitor.</span></a></strong></li>\n				<li style="margin:0px 0px 0px 15px\;"><strong><span style="font-family:arial\,sans-serif\;"><a href="http://links.govdelivery.com/track?type=click&amp\;enid=ZWFzPTEmbWFpbGluZ2lkPTIwMTYwNzA2LjYxMjExOTkxJm1lc3NhZ2VpZD1NREItUFJELUJVTC0yMDE2MDcwNi42MTIxMTk5MSZkYXRhYmFzZWlkPTEwMDEmc2VyaWFsPTE3NzMzNDQ2JmVtYWlsaWQ9ZHBhcmtlckBsb25nYm93LXBhcnRuZXJzLmNvbSZ1c2VyaWQ9ZHBhcmtlckBsb25nYm93LXBhcnRuZXJzLmNvbSZmbD0mZXh0cmE9TXVsdGl2YXJpYXRlSWQ9JiYm&amp\;&amp\;&amp\;103&amp\;&amp\;&amp\;https://www.eventbrite.com/e/procurement-connection-seminar-expo-free-conference-seminars-tickets-22591092566?utm-source=cp&amp\;utm-term=listing&amp\;utm-campaign=social&amp\;utm-medium=discovery&amp\;utm-content=attendeeshare" style="color:rgb(17\, 85\, 204)\;" target="_blank">Register now for free seminars.</a></span></strong>&nbsp\;</li>\n			</ul>\n			<span style="font-family:arial\,sans-serif\;"><span style="font-size:13.5pt\;">Also\, please follow the latest PCSE event updates on&nbsp\;<a href="http://links.govdelivery.com/track?type=click&amp\;enid=ZWFzPTEmbWFpbGluZ2lkPTIwMTYwNzA2LjYxMjExOTkxJm1lc3NhZ2VpZD1NREItUFJELUJVTC0yMDE2MDcwNi42MTIxMTk5MSZkYXRhYmFzZWlkPTEwMDEmc2VyaWFsPTE3NzMzNDQ2JmVtYWlsaWQ9ZHBhcmtlckBsb25nYm93LXBhcnRuZXJzLmNvbSZ1c2VyaWQ9ZHBhcmtlckBsb25nYm93LXBhcnRuZXJzLmNvbSZmbD0mZXh0cmE9TXVsdGl2YXJpYXRlSWQ9JiYm&amp\;&amp\;&amp\;104&amp\;&amp\;&amp\;https://www.facebook.com/txcomptroller" style="color:rgb(17\, 85\, 204)\;" target="_blank">Facebook</a>&nbsp\;and&nbsp\;<a href="http://links.govdelivery.com/track?type=click&amp\;enid=ZWFzPTEmbWFpbGluZ2lkPTIwMTYwNzA2LjYxMjExOTkxJm1lc3NhZ2VpZD1NREItUFJELUJVTC0yMDE2MDcwNi42MTIxMTk5MSZkYXRhYmFzZWlkPTEwMDEmc2VyaWFsPTE3NzMzNDQ2JmVtYWlsaWQ9ZHBhcmtlckBsb25nYm93LXBhcnRuZXJzLmNvbSZ1c2VyaWQ9ZHBhcmtlckBsb25nYm93LXBhcnRuZXJzLmNvbSZmbD0mZXh0cmE9TXVsdGl2YXJpYXRlSWQ9JiYm&amp\;&amp\;&amp\;105&amp\;&amp\;&amp\;https://twitter.com/txcomptroller" style="color:rgb(17\, 85\, 204)\;" target="_blank">Twitter</a>&nbsp\;and search #PCSEAustin16.</span></span><br />\n			<span style="font-family:arial\,sans-serif\;"><span style="font-size:13.5pt\;">The PCSE will provide educational workshops on doing business with state and local governments\, as well as the private sector. Texas Comptroller Glenn Hegar will deliver the keynote address\, and representatives from Texas state agencies\, universities and businesses will distribute information about their organizations and procurement needs.</span></span><br />\n			<span style="font-family:arial\,sans-serif\;"><span style="font-size:13.5pt\;">Visit our webpage\,&nbsp\;<a href="http://links.govdelivery.com/track?type=click&amp\;enid=ZWFzPTEmbWFpbGluZ2lkPTIwMTYwNzA2LjYxMjExOTkxJm1lc3NhZ2VpZD1NREItUFJELUJVTC0yMDE2MDcwNi42MTIxMTk5MSZkYXRhYmFzZWlkPTEwMDEmc2VyaWFsPTE3NzMzNDQ2JmVtYWlsaWQ9ZHBhcmtlckBsb25nYm93LXBhcnRuZXJzLmNvbSZ1c2VyaWQ9ZHBhcmtlckBsb25nYm93LXBhcnRuZXJzLmNvbSZmbD0mZXh0cmE9TXVsdGl2YXJpYXRlSWQ9JiYm&amp\;&amp\;&amp\;106&amp\;&amp\;&amp\;http://www.comptroller.texas.gov/procurement/prog/hub/" style="color:rgb(17\, 85\, 204)\;" target="_blank">Texas4HUBs.org</a>\, to learn more about this exciting event!</span></span></td>\n		</tr>\n		<tr>\n			<td style="padding:0in\;">&nbsp\;\n			<div>&nbsp\;</div>\n			</td>\n		</tr>\n	</tbody>\n</table>\n
LOCATION:Palmer Events Center\, 900 Barton Springs Rd.\, Austin\, Texas
UID:e.1262.2871
SEQUENCE:3
DTSTAMP:20260422T023427Z
URL:https://business.fwmbcc.org/events/details/hub-procurement-connection-seminar-expo-in-austin-08-24-2016-2871
END:VEVENT

END:VCALENDAR
