BEGIN:VCALENDAR
VERSION:2.0
PRODID:-//ChamberMaster//Event Calendar 2.0//EN
METHOD:PUBLISH
X-PUBLISHED-TTL:P3D
REFRESH-INTERVAL:P3D
CALSCALE:GREGORIAN
BEGIN:VEVENT
DTSTART:20151110T173000Z
DTEND:20151110T190000Z
X-MICROSOFT-CDO-ALLDAYEVENT:FALSE
SUMMARY:HR Essentials for Small Business Owners
DESCRIPTION:Topics will include avoiding fines and maintaining compliance\, illegal interview questions\, unemployment claims\, Equal Employment Regulations and more
X-ALT-DESC;FMTTYPE=text/html:Topics will include avoiding fines and maintaining compliance\, illegal interview questions\, unemployment claims\, Equal Employment Regulations and more
LOCATION:1150 S. Freeway\, Ft. Worth Tx - Business Assistance Center
UID:e.1262.2294
SEQUENCE:3
DTSTAMP:20260422T104605Z
URL:https://business.fwmbcc.org/events/details/hr-essentials-for-small-business-owners-11-10-2015-2294
END:VEVENT

END:VCALENDAR
