BEGIN:VCALENDAR
VERSION:2.0
PRODID:-//ChamberMaster//Event Calendar 2.0//EN
METHOD:PUBLISH
X-PUBLISHED-TTL:P3D
REFRESH-INTERVAL:P3D
CALSCALE:GREGORIAN
BEGIN:VEVENT
DTSTART:20180614T163000Z
DTEND:20180614T180000Z
X-MICROSOFT-CDO-ALLDAYEVENT:FALSE
SUMMARY:HR 101: Key Issues and How to Solve Them in 2018
DESCRIPTION:Managing employees is a multi-faceted and important part of running a business.   Hiring and retaining the right employees is critical to meeting your organization's objectives and navigating the numerous HR requirements isn't easy.  \n\nHR 101:  Key Issues and How to Solve Them has been designed to simplify HR and give you the tools to effectively manage many of the employee-related tasks in your business.\n\n In this workshop\, you will learn to identify small business HR needs and to proactively manage them\, including the following important topics:\n\n          Tips for Recruiting and Hiring the Best Employees\n\n          Job Classifications\n\n          Pay Issues\n\n          Policies and Handbooks\n\n          Family and Medical Leave Act\n\n          Health Care Reform\n\n          Preventing Workplace Harassment and Discrimination\n\n          Employment at Will\n\n \n\nhttp://events.constantcontact.com/register/event?llr=fg4jspcab&oeidk=a07efcxv4gk77849c81
X-ALT-DESC;FMTTYPE=text/html:<div style="color: rgb(51\, 51\, 51)\; font-family: &quot\;Times New Roman&quot\;\, Times\, serif\; font-size: 16px\; background-color: rgb(255\, 255\, 255)\;"><span style="font-family: Arial\, Verdana\, Helvetica\, sans-serif\; font-size: 12px\;">Managing employees is a multi-faceted and important part of running a business.&nbsp\;&nbsp\;&nbsp\;Hiring and retaining the right employees is critical to meeting your organization&rsquo\;s objectives and navigating the numerous HR requirements isn&rsquo\;t easy.&nbsp\;&nbsp\;</span><br />\n<span style="font-family: Arial\, Verdana\, Helvetica\, sans-serif\; font-size: 12px\; font-style: italic\;">HR 101:&nbsp\;&nbsp\;Key Issues and How to Solve Them</span><span style="font-family: Arial\, Verdana\, Helvetica\, sans-serif\; font-size: 12px\;">&nbsp\;has been designed to simplify HR and give you the tools to effectively manage many of the employee-related tasks in your business.</span></div>\n\n<div style="color: rgb(51\, 51\, 51)\; font-family: &quot\;Times New Roman&quot\;\, Times\, serif\; font-size: 16px\; background-color: rgb(255\, 255\, 255)\;"><span style="font-family: Arial\, Verdana\, Helvetica\, sans-serif\; font-size: 12px\;">&nbsp\;In this workshop\, you will learn to identify small business HR needs and to proactively manage them\, including the following important topics:</span></div>\n\n<div style="color: rgb(51\, 51\, 51)\; font-family: &quot\;Times New Roman&quot\;\, Times\, serif\; font-size: 16px\; background-color: rgb(255\, 255\, 255)\;"><span style="font-family: Arial\, Verdana\, Helvetica\, sans-serif\; font-size: 12px\;">&middot\;&nbsp\;&nbsp\;&nbsp\;&nbsp\;&nbsp\;&nbsp\;&nbsp\;&nbsp\;&nbsp\;Tips for Recruiting and Hiring the Best Employees</span></div>\n\n<div style="color: rgb(51\, 51\, 51)\; font-family: &quot\;Times New Roman&quot\;\, Times\, serif\; font-size: 16px\; background-color: rgb(255\, 255\, 255)\;"><span style="font-family: Arial\, Verdana\, Helvetica\, sans-serif\; font-size: 12px\;">&middot\;&nbsp\;&nbsp\;&nbsp\;&nbsp\;&nbsp\;&nbsp\;&nbsp\;&nbsp\;&nbsp\;Job Classifications</span></div>\n\n<div style="color: rgb(51\, 51\, 51)\; font-family: &quot\;Times New Roman&quot\;\, Times\, serif\; font-size: 16px\; background-color: rgb(255\, 255\, 255)\;"><span style="font-family: Arial\, Verdana\, Helvetica\, sans-serif\; font-size: 12px\;">&middot\;&nbsp\;&nbsp\;&nbsp\;&nbsp\;&nbsp\;&nbsp\;&nbsp\;&nbsp\;&nbsp\;Pay Issues</span></div>\n\n<div style="color: rgb(51\, 51\, 51)\; font-family: &quot\;Times New Roman&quot\;\, Times\, serif\; font-size: 16px\; background-color: rgb(255\, 255\, 255)\;"><span style="font-family: Arial\, Verdana\, Helvetica\, sans-serif\; font-size: 12px\;">&middot\;&nbsp\;&nbsp\;&nbsp\;&nbsp\;&nbsp\;&nbsp\;&nbsp\;&nbsp\;&nbsp\;Policies and Handbooks</span></div>\n\n<div style="color: rgb(51\, 51\, 51)\; font-family: &quot\;Times New Roman&quot\;\, Times\, serif\; font-size: 16px\; background-color: rgb(255\, 255\, 255)\;"><span style="font-family: Arial\, Verdana\, Helvetica\, sans-serif\; font-size: 12px\;">&middot\;&nbsp\;&nbsp\;&nbsp\;&nbsp\;&nbsp\;&nbsp\;&nbsp\;&nbsp\;&nbsp\;Family and Medical Leave Act</span></div>\n\n<div style="color: rgb(51\, 51\, 51)\; font-family: &quot\;Times New Roman&quot\;\, Times\, serif\; font-size: 16px\; background-color: rgb(255\, 255\, 255)\;"><span style="font-family: Arial\, Verdana\, Helvetica\, sans-serif\; font-size: 12px\;">&middot\;&nbsp\;&nbsp\;&nbsp\;&nbsp\;&nbsp\;&nbsp\;&nbsp\;&nbsp\;&nbsp\;Health Care Reform</span></div>\n\n<div style="color: rgb(51\, 51\, 51)\; font-family: &quot\;Times New Roman&quot\;\, Times\, serif\; font-size: 16px\; background-color: rgb(255\, 255\, 255)\;"><span style="font-family: Arial\, Verdana\, Helvetica\, sans-serif\; font-size: 12px\;">&middot\;&nbsp\;&nbsp\;&nbsp\;&nbsp\;&nbsp\;&nbsp\;&nbsp\;&nbsp\;&nbsp\;Preventing Workplace Harassment and Discrimination</span></div>\n\n<div style="color: rgb(51\, 51\, 51)\; font-family: &quot\;Times New Roman&quot\;\, Times\, serif\; font-size: 16px\; background-color: rgb(255\, 255\, 255)\;"><span style="font-family: Arial\, Verdana\, Helvetica\, sans-serif\; font-size: 12px\;">&middot\;&nbsp\;&nbsp\;&nbsp\;&nbsp\;&nbsp\;&nbsp\;&nbsp\;&nbsp\;&nbsp\;Employment at Will</span></div>\n\n<div style="color: rgb(51\, 51\, 51)\; font-family: &quot\;Times New Roman&quot\;\, Times\, serif\; font-size: 16px\; background-color: rgb(255\, 255\, 255)\;">&nbsp\;</div>\n\n<div style="color: rgb(51\, 51\, 51)\; font-family: &quot\;Times New Roman&quot\;\, Times\, serif\; font-size: 16px\; background-color: rgb(255\, 255\, 255)\;"><a data-saferedirecturl="https://www.google.com/url?hl=en&amp\;q=http://events.constantcontact.com/register/event?llr%3Dfg4jspcab%26oeidk%3Da07efcxv4gk77849c81&amp\;source=gmail&amp\;ust=1528295915604000&amp\;usg=AFQjCNGVEvWlm5R475ocGC2IfJ4S7hH-ew" href="http://events.constantcontact.com/register/event?llr=fg4jspcab&amp\;oeidk=a07efcxv4gk77849c81" style="color: rgb(17\, 85\, 204)\;" target="_blank">http://events.constantcontact.<wbr />com/register/event?llr=fg4jspc<wbr />ab&amp\;oeidk=a07efcxv4gk77849c81</a></div>\n
LOCATION:Fort Worth SCORE Conference Room 1150 South Freeway\, Suite 108 Fort Worth\, TX 76104
UID:e.1262.4106
SEQUENCE:3
DTSTAMP:20260422T073406Z
URL:https://business.fwmbcc.org/events/details/hr-101-key-issues-and-how-to-solve-them-in-2018-4106
END:VEVENT

END:VCALENDAR
