BEGIN:VCALENDAR
VERSION:2.0
PRODID:-//ChamberMaster//Event Calendar 2.0//EN
METHOD:PUBLISH
X-PUBLISHED-TTL:P3D
REFRESH-INTERVAL:P3D
CALSCALE:GREGORIAN
BEGIN:VEVENT
DTSTART:20180623T140000Z
DTEND:20180623T190000Z
X-MICROSOFT-CDO-ALLDAYEVENT:FALSE
SUMMARY:How To Start a Trucking Business and Grow It to Success Today
DESCRIPTION:The transportation industry is enormous\, grossing nearly a $1 trillion dollars annually\, however\, trucking counts for three quarters of that amount.   \n\nIn "How To Start A Trucking Business and Grow it to Success" session\, you will learn the ins and outs of the trucking industry\; mostly how to get started and how to grow business with ease.\n\nTalking points:\n\nGetting Started and understanding formation\n\nBuilding Your Personal and Business Credit\n\nSecuring Financing for Your Business \n\nUnderstanding Federal Contracting\n\nGetting Your Small Business Certifications\n\nDrafting Your Capability Statement for Contraction\n\nHow to purchase your truck and what to look for\n\nDealing with Carriers\n\nDo you need an authority?\n\nFinancial Statement Basics and Accounting\n\nFinding Opportunities and working with brokers\n\nSafety & Compliance\n\nHiring Employees\n\nDrafting Business Plan\n\nFee member for 1 year to NMTA\n\n \n\nhttp://events.constantcontact.com/register/event?llr=fg4jspcab&oeidk=a07efcxoxb9678ede19
X-ALT-DESC;FMTTYPE=text/html:<div style="margin-left: 15px\; color: rgb(91\, 91\, 91)\; font-size: 12px\;"><span style="color: rgb(110\, 148\, 158)\; font-family: Arial\, Verdana\, Helvetica\, sans-serif\; font-size: 18px\; font-weight: bold\;">The transportation industry is enormous\, grossing nearly a $1 trillion dollars annually\, however\, trucking counts for three quarters of that amount.&nbsp\; &nbsp\;<br />\nIn &ldquo\;How To Start A Trucking Business and Grow it to Success&rdquo\;&nbsp\;session\, you will learn the ins and outs of the trucking industry\; mostly how to get started and how to grow business with ease.</span></div>\n\n<div style="color: rgb(51\, 51\, 51)\; font-family: &quot\;Times New Roman&quot\;\, Times\, serif\; font-size: 16px\; background-color: rgb(255\, 255\, 255)\;"><span style="color: rgb(110\, 148\, 158)\; font-family: Arial\, Verdana\, Helvetica\, sans-serif\; font-size: 18px\; font-weight: bold\;">Talking points:</span></div>\n\n<div style="color: rgb(51\, 51\, 51)\; font-family: &quot\;Times New Roman&quot\;\, Times\, serif\; font-size: 16px\; background-color: rgb(255\, 255\, 255)\;"><span style="font-family: Arial\, Verdana\, Helvetica\, sans-serif\; font-size: 19px\;">Getting Started and understanding formation</span></div>\n\n<div style="color: rgb(51\, 51\, 51)\; font-family: &quot\;Times New Roman&quot\;\, Times\, serif\; font-size: 16px\; background-color: rgb(255\, 255\, 255)\;"><span style="font-family: Arial\, Verdana\, Helvetica\, sans-serif\; font-size: 19px\;">Building Your Personal and Business Credit</span></div>\n\n<div style="color: rgb(51\, 51\, 51)\; font-family: &quot\;Times New Roman&quot\;\, Times\, serif\; font-size: 16px\; background-color: rgb(255\, 255\, 255)\;"><span style="font-family: Arial\, Verdana\, Helvetica\, sans-serif\; font-size: 19px\;">Securing Financing for Your Business&nbsp\;</span></div>\n\n<div style="color: rgb(51\, 51\, 51)\; font-family: &quot\;Times New Roman&quot\;\, Times\, serif\; font-size: 16px\; background-color: rgb(255\, 255\, 255)\;"><span style="font-family: Arial\, Verdana\, Helvetica\, sans-serif\; font-size: 19px\;">Understanding Federal Contracting</span></div>\n\n<div style="color: rgb(51\, 51\, 51)\; font-family: &quot\;Times New Roman&quot\;\, Times\, serif\; font-size: 16px\; background-color: rgb(255\, 255\, 255)\;"><span style="font-family: Arial\, Verdana\, Helvetica\, sans-serif\; font-size: 19px\;">Getting Your Small Business Certifications</span></div>\n\n<div style="color: rgb(51\, 51\, 51)\; font-family: &quot\;Times New Roman&quot\;\, Times\, serif\; font-size: 16px\; background-color: rgb(255\, 255\, 255)\;"><span style="font-family: Arial\, Verdana\, Helvetica\, sans-serif\; font-size: 19px\;">Drafting Your Capability Statement for Contraction</span></div>\n\n<div style="color: rgb(51\, 51\, 51)\; font-family: &quot\;Times New Roman&quot\;\, Times\, serif\; font-size: 16px\; background-color: rgb(255\, 255\, 255)\;"><span style="font-family: Arial\, Verdana\, Helvetica\, sans-serif\; font-size: 19px\;">How to purchase your truck and what to look for</span></div>\n\n<div style="color: rgb(51\, 51\, 51)\; font-family: &quot\;Times New Roman&quot\;\, Times\, serif\; font-size: 16px\; background-color: rgb(255\, 255\, 255)\;"><span style="font-family: Arial\, Verdana\, Helvetica\, sans-serif\; font-size: 19px\;">Dealing with Carriers</span></div>\n\n<div style="color: rgb(51\, 51\, 51)\; font-family: &quot\;Times New Roman&quot\;\, Times\, serif\; font-size: 16px\; background-color: rgb(255\, 255\, 255)\;"><span style="font-family: Arial\, Verdana\, Helvetica\, sans-serif\; font-size: 19px\;">Do you need an authority?</span></div>\n\n<div style="color: rgb(51\, 51\, 51)\; font-family: &quot\;Times New Roman&quot\;\, Times\, serif\; font-size: 16px\; background-color: rgb(255\, 255\, 255)\;"><span style="font-family: Arial\, Verdana\, Helvetica\, sans-serif\; font-size: 19px\;">Financial Statement Basics and Accounting</span></div>\n\n<div style="color: rgb(51\, 51\, 51)\; font-family: &quot\;Times New Roman&quot\;\, Times\, serif\; font-size: 16px\; background-color: rgb(255\, 255\, 255)\;"><span style="font-family: Arial\, Verdana\, Helvetica\, sans-serif\; font-size: 19px\;">Finding Opportunities and working with brokers</span></div>\n\n<div style="color: rgb(51\, 51\, 51)\; font-family: &quot\;Times New Roman&quot\;\, Times\, serif\; font-size: 16px\; background-color: rgb(255\, 255\, 255)\;"><span style="font-family: Arial\, Verdana\, Helvetica\, sans-serif\; font-size: 19px\;">Safety &amp\; Compliance</span></div>\n\n<div style="color: rgb(51\, 51\, 51)\; font-family: &quot\;Times New Roman&quot\;\, Times\, serif\; font-size: 16px\; background-color: rgb(255\, 255\, 255)\;"><span style="font-family: Arial\, Verdana\, Helvetica\, sans-serif\; font-size: 19px\;">Hiring Employees</span></div>\n\n<div style="color: rgb(51\, 51\, 51)\; font-family: &quot\;Times New Roman&quot\;\, Times\, serif\; font-size: 16px\; background-color: rgb(255\, 255\, 255)\;"><span style="font-family: Arial\, Verdana\, Helvetica\, sans-serif\; font-size: 19px\;">Drafting Business Plan</span></div>\n\n<div style="color: rgb(51\, 51\, 51)\; font-family: &quot\;Times New Roman&quot\;\, Times\, serif\; font-size: 16px\; background-color: rgb(255\, 255\, 255)\;"><span style="font-family: Arial\, Verdana\, Helvetica\, sans-serif\; font-size: 19px\;">Fee member for 1 year to NMTA</span></div>\n\n<div style="color: rgb(51\, 51\, 51)\; font-family: &quot\;Times New Roman&quot\;\, Times\, serif\; font-size: 16px\; background-color: rgb(255\, 255\, 255)\;">&nbsp\;</div>\n\n<div style="color: rgb(51\, 51\, 51)\; font-family: &quot\;Times New Roman&quot\;\, Times\, serif\; font-size: 16px\; background-color: rgb(255\, 255\, 255)\;"><a data-saferedirecturl="https://www.google.com/url?hl=en&amp\;q=http://events.constantcontact.com/register/event?llr%3Dfg4jspcab%26oeidk%3Da07efcxoxb9678ede19&amp\;source=gmail&amp\;ust=1528295915605000&amp\;usg=AFQjCNFeuv9Dq8EW4rlhQRwZV2SU45X-MQ" href="http://events.constantcontact.com/register/event?llr=fg4jspcab&amp\;oeidk=a07efcxoxb9678ede19" style="color: rgb(17\, 85\, 204)\;" target="_blank">http://events.constantcontact.<wbr />com/register/event?llr=fg4jspc<wbr />ab&amp\;oeidk=a07efcxoxb9678ede19</a></div>\n
LOCATION:Pinnstation 201 E. Abram St. Arlington\, TX 76010
UID:e.1262.4110
SEQUENCE:3
DTSTAMP:20260422T074026Z
URL:https://business.fwmbcc.org/events/details/how-to-start-a-trucking-business-and-grow-it-to-success-today-4110
END:VEVENT

END:VCALENDAR
