BEGIN:VCALENDAR
VERSION:2.0
PRODID:-//ChamberMaster//Event Calendar 2.0//EN
METHOD:PUBLISH
X-PUBLISHED-TTL:P3D
REFRESH-INTERVAL:P3D
CALSCALE:GREGORIAN
BEGIN:VEVENT
DTSTART:20160324T140000Z
DTEND:20160324T173000Z
X-MICROSOFT-CDO-ALLDAYEVENT:FALSE
SUMMARY:How to Do Business With the City of Fort Worth
DESCRIPTION:How to Do Business with the City of Fort Worth
X-ALT-DESC;FMTTYPE=text/html:<b>How to Do Business with the City of Fort Worth</b>
LOCATION:Tarrant County Academy of Medicine Facility 555 Hemphill St.\, Ft. Worth TX 76104
UID:e.1262.2742
SEQUENCE:3
DTSTAMP:20260422T105635Z
URL:https://business.fwmbcc.org/events/details/how-to-do-business-with-the-city-of-fort-worth-03-24-2016-2742
END:VEVENT

END:VCALENDAR
