BEGIN:VCALENDAR
VERSION:2.0
PRODID:-//ChamberMaster//Event Calendar 2.0//EN
METHOD:PUBLISH
X-PUBLISHED-TTL:P3D
REFRESH-INTERVAL:P3D
CALSCALE:GREGORIAN
BEGIN:VEVENT
DTSTART:20151025T183000Z
DTEND:20151025T220000Z
X-MICROSOFT-CDO-ALLDAYEVENT:FALSE
SUMMARY:Hope Walk benefiting AIDS Outreach Center
DESCRIPTION:AOC will hold its annual Walk to raise awareness of the current state of HIV/AIDS in our community\, to raise funds for the program and services of AIDS Outreach Center\, and to remember those we have lost in our battle against the world's deadliest and costliest disease. AOC has moved the event to the Fall and changed the name to HOPE WALK in response to balancing out the growth to the two major special events\, Evening of Hope and the Walk. We hope you will join us for our inaugural Hope Walk\, which is a continuation of our 24th annual AOC Walk.
X-ALT-DESC;FMTTYPE=text/html:AOC will hold its annual Walk to raise awareness of the current state of HIV/AIDS in our community\, to raise funds for the program and services of AIDS Outreach Center\, and to remember those we have lost in our battle against the world&#39\;s deadliest and costliest disease. AOC has moved the event to the Fall and changed the name to HOPE WALK in response to balancing out the growth to the two major special events\, Evening of Hope and the Walk. We hope you will join us for our inaugural Hope Walk\, which is a continuation of our 24th annual AOC Walk.
LOCATION:Trinity Park Pavilion: 2300 West 7th Street
UID:e.1262.2266
SEQUENCE:3
DTSTAMP:20260422T091754Z
URL:https://business.fwmbcc.org/events/details/hope-walk-benefiting-aids-outreach-center-10-25-2015-2266
END:VEVENT

END:VCALENDAR
