BEGIN:VCALENDAR
VERSION:2.0
PRODID:-//ChamberMaster//Event Calendar 2.0//EN
METHOD:PUBLISH
X-PUBLISHED-TTL:P3D
REFRESH-INTERVAL:P3D
CALSCALE:GREGORIAN
BEGIN:VEVENT
DTSTART:20201210T220000Z
DTEND:20201210T230000Z
X-MICROSOFT-CDO-ALLDAYEVENT:FALSE
SUMMARY:Holiday Mixer
DESCRIPTION:We're all ready to say goodbye to 2020\, but let's come together for cheer and fun before we do!\n\n\n\nWe are partnering with the Fort Worth Hispanic Chamber of Commerce and Fort Worth Chamber of Commerce to mix and mingle at a joint Business After Hours on December 10.\n\n\n\nWe'll start off with a holiday cocktail demonstration from a local mixologist. Following that\, we'll break into small groups for networking and games.\n\n\n\n\n\n\n\nJoin Zoom Meeting\n\nhttps://zoom.us/j/95210271731?pwd=N0tzK0FGK2x2Mk5ySThKVjk5KzdMQT09\n\n\n\nMeeting ID: 952 1027 1731\n\nPasscode: 067341
X-ALT-DESC;FMTTYPE=text/html:<br />\n<br />\n<strong><span style="color:#008000\;"><span style="font-family:tahoma\;">We&#39\;re all ready to say goodbye to 2020\, but let&#39\;s come together for cheer and fun before we do!<br />\n<br />\nWe are partnering with the Fort Worth Hispanic Chamber of Commerce and Fort Worth Chamber of Commerce to mix and mingle at a joint Business After Hours on December 10.<br />\n<br />\n<span style="font-size: 14px\; background-color: rgb(255\, 255\, 255)\;">We&rsquo\;ll start off with a holiday cocktail demonstration from a local mixologist. Following that\, we&rsquo\;ll break into small groups for networking and games.</span></span></span></strong><br />\n<br />\n<br />\n<br />\n<b style="color: rgb(0\, 123\, 53)\; font-family: Arial\, Helvetica\, sans-serif\; font-size: 14px\; background-color: rgb(255\, 255\, 255)\;">Join Zoom Meeting</b><br />\n<a data-saferedirecturl="https://www.google.com/url?q=https://zoom.us/j/95210271731?pwd%3DN0tzK0FGK2x2Mk5ySThKVjk5KzdMQT09&amp\;source=gmail&amp\;ust=1607013321256000&amp\;usg=AFQjCNG2WWUpLe4iSVbpEwrv7dVAjqx4Kg" href="https://zoom.us/j/95210271731?pwd=N0tzK0FGK2x2Mk5ySThKVjk5KzdMQT09" rel="noreferrer" style="color: rgb(17\, 85\, 204)\; font-family: Arial\, Helvetica\, sans-serif\; font-size: 14px\; background-color: rgb(255\, 255\, 255)\;" target="_blank"><b>https://zoom.us/j/95210271731?<wbr />pwd=N0tzK0FGK2x2Mk5ySThKVjk5Kz<wbr />dMQT09</b></a><br />\n<br />\n<b style="color: rgb(0\, 123\, 53)\; font-family: Arial\, Helvetica\, sans-serif\; font-size: 14px\; background-color: rgb(255\, 255\, 255)\;">Meeting ID: 952 1027 1731<br />\nPasscode: 067341</b><br />\n&nbsp\;
LOCATION:Free to attend on ZOOM.
UID:e.1262.4617
SEQUENCE:3
DTSTAMP:20260425T161451Z
URL:https://business.fwmbcc.org/events/details/holiday-mixer-4617
END:VEVENT

END:VCALENDAR
