BEGIN:VCALENDAR
VERSION:2.0
PRODID:-//ChamberMaster//Event Calendar 2.0//EN
METHOD:PUBLISH
X-PUBLISHED-TTL:P3D
REFRESH-INTERVAL:P3D
CALSCALE:GREGORIAN
BEGIN:VEVENT
DTSTART:20151026T223000Z
DTEND:20151027T013000Z
X-MICROSOFT-CDO-ALLDAYEVENT:FALSE
SUMMARY:Historic Stop Six Visioning Workshop
DESCRIPTION:You have a vision for Stop Six\, your schools and your family. Join your neighbors as we brainstorm and dream up ideas for transforming our community.
X-ALT-DESC;FMTTYPE=text/html:You have a vision for Stop Six\, your schools and your family. Join your neighbors as we brainstorm and dream up ideas for transforming our community.
LOCATION:Dunbar High School\, 5700 Ramey Av.\, Ft. Worth TX
UID:e.1262.2285
SEQUENCE:3
DTSTAMP:20260422T103808Z
URL:https://business.fwmbcc.org/events/details/historic-stop-six-visioning-workshop-10-26-2015-2285
END:VEVENT

END:VCALENDAR
