BEGIN:VCALENDAR
VERSION:2.0
PRODID:-//ChamberMaster//Event Calendar 2.0//EN
METHOD:PUBLISH
X-PUBLISHED-TTL:P3D
REFRESH-INTERVAL:P3D
CALSCALE:GREGORIAN
BEGIN:VEVENT
DTSTART:20150922T150000Z
DTEND:20150922T180000Z
X-MICROSOFT-CDO-ALLDAYEVENT:FALSE
SUMMARY:Health & Wellness Fair at the Hillside Community Center
DESCRIPTION:Health and Wellness Fair- Glucose Tests\, Blood Pressure Checks\, Door Prizes and Food
X-ALT-DESC;FMTTYPE=text/html:Health and Wellness Fair- Glucose Tests\, Blood Pressure Checks\, Door Prizes and Food
LOCATION:Hillside Community Center-1201 E. Maddox Ave.\, Ft. Worth TX 76104
UID:e.1262.2257
SEQUENCE:3
DTSTAMP:20260422T092053Z
URL:https://business.fwmbcc.org/events/details/health-wellness-fair-at-the-hillside-community-center-09-22-2015-2257
END:VEVENT

END:VCALENDAR
