BEGIN:VCALENDAR
VERSION:2.0
PRODID:-//ChamberMaster//Event Calendar 2.0//EN
METHOD:PUBLISH
X-PUBLISHED-TTL:P3D
REFRESH-INTERVAL:P3D
CALSCALE:GREGORIAN
BEGIN:VEVENT
DTSTART:20160504T160000Z
DTEND:20160504T180000Z
X-MICROSOFT-CDO-ALLDAYEVENT:FALSE
SUMMARY:Hats Off to Mothers Luncheon-Benefiting Easter Seals North Texas
DESCRIPTION:Hats Off to Mothers Luncheon benefiting Easter Seals North Texas\n\nHonoring our community's outstanding mothers
X-ALT-DESC;FMTTYPE=text/html:<strong>Hats Off to Mothers Luncheon benefiting Easter Seals North Texas<br />\nHonoring our community&#39\;s outstanding mothers</strong>
LOCATION:The Ashton Depot
UID:e.1262.2795
SEQUENCE:3
DTSTAMP:20260422T073821Z
URL:https://business.fwmbcc.org/events/details/hats-off-to-mothers-luncheon-benefiting-easter-seals-north-texas-05-04-2016-2795
END:VEVENT

END:VCALENDAR
