BEGIN:VCALENDAR
VERSION:2.0
PRODID:-//ChamberMaster//Event Calendar 2.0//EN
METHOD:PUBLISH
X-PUBLISHED-TTL:P3D
REFRESH-INTERVAL:P3D
CALSCALE:GREGORIAN
BEGIN:VEVENT
DTSTART:20160308T210000Z
DTEND:20160309T020000Z
X-MICROSOFT-CDO-ALLDAYEVENT:FALSE
SUMMARY:Hard Hat 2016 Construction Expo
DESCRIPTION:Largest construction business expo in the Southwest connecting owners and general contractors with Certified Minority Owned construction businesses. Over 80 Exhibitors!  Face to face networking\; Business opportunities\; Over 600 Construction attendees\; Exhibitor and Attendee directory.  *Underwriter Sponsor UNT System\, City of Dallas and Hispanic Contractors Association
X-ALT-DESC;FMTTYPE=text/html:<strong>Largest construction business expo in the Southwest connecting owners and general contractors with Certified Minority Owned construction businesses. Over 80 Exhibitors! &nbsp\;Face to face networking\; Business opportunities\; Over 600 Construction attendees\; Exhibitor and Attendee directory. &nbsp\;*Underwriter Sponsor UNT System\, City of Dallas and Hispanic Contractors Association</strong>
LOCATION:Eddie Deen's Ranch\, 944 South Lamar\, Dallas\, TX 75202
UID:e.1262.2754
SEQUENCE:3
DTSTAMP:20260422T104304Z
URL:https://business.fwmbcc.org/events/details/hard-hat-2016-construction-expo-03-08-2016-2754
END:VEVENT

END:VCALENDAR
