BEGIN:VCALENDAR
VERSION:2.0
PRODID:-//ChamberMaster//Event Calendar 2.0//EN
METHOD:PUBLISH
X-PUBLISHED-TTL:P3D
REFRESH-INTERVAL:P3D
CALSCALE:GREGORIAN
BEGIN:VEVENT
DTSTART:20160329T163000Z
DTEND:20160329T180000Z
X-MICROSOFT-CDO-ALLDAYEVENT:FALSE
SUMMARY:Great Ideas Presents: Angel Investing
DESCRIPTION:Angel Investing with the founders of Cowtown Angels\, Les Kreis & Lee Rogers. Come hear from two angels from our community that are evaluating deals and making investments as members of Cowtown Angels.  Come thirsty for knowledge and ready to explore what exactly Angel investors are looking at when they look at deals.
X-ALT-DESC;FMTTYPE=text/html:Angel Investing with the founders of <strong>Cowtown&nbsp\;Angels</strong>\, Les Kreis&nbsp\;&amp\; Lee Rogers. Come hear from two angels from our community that are evaluating deals and making investments as members of Cowtown Angels. &nbsp\;Come thirsty for knowledge and ready to explore what exactly Angel investors are looking at when they look at deals.
LOCATION:Idea Works FW\, 600 E. Rosedale Fort Worth TX
UID:e.1262.2808
SEQUENCE:3
DTSTAMP:20260422T105312Z
URL:https://business.fwmbcc.org/events/details/great-ideas-presents-angel-investing-03-29-2016-2808
END:VEVENT

END:VCALENDAR
