BEGIN:VCALENDAR
VERSION:2.0
PRODID:-//ChamberMaster//Event Calendar 2.0//EN
METHOD:PUBLISH
X-PUBLISHED-TTL:P3D
REFRESH-INTERVAL:P3D
CALSCALE:GREGORIAN
BEGIN:VEVENT
DTSTART:20160507T230000Z
DTEND:20160508T020000Z
X-MICROSOFT-CDO-ALLDAYEVENT:FALSE
SUMMARY:Grand Opening Ribbon Cutting: Venue Seven of Fort Worth
DESCRIPTION:We would like to invite each member of the Fort Worth Metropolitan Black Chamber to our Grand Opening weekend of events for Venue Seven of Fort Worth.\n\n\n\nThe "Sneak Peek" Open House is Friday\, May 6th &\n\nThe Grand Opening Ribbon Cutting Ceremony is on Saturday May 7th!\n\n\n\nPlease come out and celebrate this great occasion with your Chamber member.
X-ALT-DESC;FMTTYPE=text/html:<br />\n<span style="font-family:times new roman\;"><span style="font-size:11px\;"><span style="background-image:initial\;background-attachment:initial\;background-size:initial\;background-origin:initial\;background-clip:initial\;background-position:initial\;background-repeat:initial\;"><span style="color:black\;">We would like to invite each</span></span><span style="color:black\;">&nbsp\;member of the Fort Worth Metropolitan Black Chamber to</span><span style="background-image:initial\;background-attachment:initial\;background-size:initial\;background-origin:initial\;background-clip:initial\;background-position:initial\;background-repeat:initial\;"><span style="color:black\;">&nbsp\;our Grand Opening weekend of events for Venue Seven of Fort Worth.<br />\n<br />\nThe <em><strong>&quot\;Sneak Peek&quot\; Open House is Friday\, May 6th</strong></em> &amp\;<br />\n<strong><em>The Grand Opening Ribbon Cutting Ceremony is on Saturday May 7th!</em></strong></span></span><br />\n<br />\n<span style="background-image:initial\;background-attachment:initial\;background-size:initial\;background-origin:initial\;background-clip:initial\;background-position:initial\;background-repeat:initial\;"><span style="color:black\;">Please come out and celebrate this great occasion with your Chamber member.</span></span></span></span>
LOCATION:Venue Seven of Fort Worth 5240 N. Tarrant Parkway Fort Worth\, TX 76137
UID:e.1262.2834
SEQUENCE:3
DTSTAMP:20260422T092147Z
URL:https://business.fwmbcc.org/events/details/grand-opening-ribbon-cutting-venue-seven-of-fort-worth-05-07-2016-2834
END:VEVENT

END:VCALENDAR
