BEGIN:VCALENDAR
VERSION:2.0
PRODID:-//ChamberMaster//Event Calendar 2.0//EN
METHOD:PUBLISH
X-PUBLISHED-TTL:P3D
REFRESH-INTERVAL:P3D
CALSCALE:GREGORIAN
BEGIN:VEVENT
DTSTART:20160507T160000Z
DTEND:20160507T220000Z
X-MICROSOFT-CDO-ALLDAYEVENT:FALSE
SUMMARY:GRAND OPENING OF MALL ON FELIX AND 35
DESCRIPTION:PLEASE COME BY THE GRAND OPENING FOR THE BAZAAR ON MAY 07\, 2016\n\n \n\nWe have finished the project after a year of construction and we are 85% occupied. We are having the Grand Opening this weekend.\n\n \n\nMuch love for all the support you have sent my way.\n\n \n\nCome by and enjoy the new location with 178 new Retail Tenants\, including the reopening of Deuce's GeeSpot and JMC Professional Services\, 7 food Venue's\, 6 Barber/Beauty Shops\, a full inside Carnival with a 12-D Motion Movie Center.
X-ALT-DESC;FMTTYPE=text/html:&nbsp\;\n<div style="color:rgb(34\, 34\, 34)\;font-family:arial\, sans-serif\;font-size:12.8px\;line-height:normal\;">\n<div><span style="color:black\;"><span style="font-family:helvetica\,sans-serif\;"><span style="font-size:10.5pt\;">PLEASE COME BY THE GRAND OPENING FOR THE BAZAAR ON&nbsp\;<span data-term="goog_1256924445" style="border-bottom-width:1px\;border-bottom-style:dashed\;position:relative\;top:-2px\;z-index:0\;" tabindex="0"><span style="position:relative\;top:2px\;z-index:-1\;">MAY 07\, 2016</span></span></span></span></span></div>\n\n<div>&nbsp\;</div>\n\n<div><span style="color:black\;"><span style="font-family:helvetica\,sans-serif\;"><span style="font-size:10.5pt\;">We have finished the project after a year of construction and we are 85% occupied. We are having the Grand Opening this weekend.</span></span></span></div>\n\n<div>&nbsp\;</div>\n\n<div><span style="color:black\;"><span style="font-family:helvetica\,sans-serif\;"><span style="font-size:10.5pt\;">Much love for all the support you have sent my way.</span></span></span></div>\n\n<div>&nbsp\;</div>\n\n<div><span style="color:black\;"><span style="font-family:helvetica\,sans-serif\;"><span style="font-size:10.5pt\;">Come by and enjoy the new location with 178 new Retail Tenants\, including the reopening of Deuce&#39\;s GeeSpot and JMC Professional Services\, 7 food Venue&#39\;s\, 6 Barber/Beauty Shops\, a full inside Carnival with a 12-D Motion Movie Center.</span></span></span></div>\n</div>\n
LOCATION:The Entertainment Bazaar 4820 S. Freeway Fort Worth\, TX 76115
UID:e.1262.2857
SEQUENCE:3
DTSTAMP:20260422T074027Z
URL:https://business.fwmbcc.org/events/details/grand-opening-of-mall-on-felix-and-35-05-07-2016-2857
END:VEVENT

END:VCALENDAR
