BEGIN:VCALENDAR
VERSION:2.0
PRODID:-//ChamberMaster//Event Calendar 2.0//EN
METHOD:PUBLISH
X-PUBLISHED-TTL:P3D
REFRESH-INTERVAL:P3D
CALSCALE:GREGORIAN
BEGIN:VEVENT
DTSTART:20180714T210000Z
DTEND:20180714T230000Z
X-MICROSOFT-CDO-ALLDAYEVENT:FALSE
SUMMARY:GRAND OPENING - LARRY'S BARBER COLLEGE
DESCRIPTION:FREE HAIRCUTS ** FREE FOOD ** MUSIC ** BOUNCE HOUSES\n\n\n\nWe are now under NEW OWNERSHIP!\n\nDrop by and find out what we can do FOR YOU!!\n\n\n\nSponsored by:\n\nA.S.A.P.P. BARBERSHOP & KENNESH RADIO
X-ALT-DESC;FMTTYPE=text/html:<div style="text-align: center\;"><span style="color:#FF0000\;"><span style="font-size:14px\;"><strong>FREE HAIRCUTS ** FREE FOOD ** MUSIC ** BOUNCE HOUSES</strong></span></span><br />\n<br />\n<strong><span style="font-size:14px\;"><span background-color:="" font-size:="" style="color: rgb(51\, 51\, 51)\; font-family: sans-serif\, Arial\, Verdana\, " trebuchet="">We are now under NEW OWNERSHIP!</span></span><br font-size:="" style="color: rgb(51\, 51\, 51)\; font-family: sans-serif\, Arial\, Verdana\, " trebuchet="" />\n<span background-color:="" font-size:="" style="color: rgb(51\, 51\, 51)\; font-family: sans-serif\, Arial\, Verdana\, " trebuchet=""><span style="font-size:14px\;">Drop by and find out what we can do FOR YOU!</span>!</span></strong><br />\n<br />\n<span style="color: rgb(51\, 51\, 51)\; font-family: sans-serif\, Arial\, Verdana\, &quot\;Trebuchet MS&quot\;\; font-size: 13px\; background-color: rgb(255\, 255\, 255)\;">Sponsored by:</span><br style="color: rgb(51\, 51\, 51)\; font-family: sans-serif\, Arial\, Verdana\, &quot\;Trebuchet MS&quot\;\; font-size: 13px\;" />\n<strong style="color: rgb(51\, 51\, 51)\; font-family: sans-serif\, Arial\, Verdana\, &quot\;Trebuchet MS&quot\;\; font-size: 13px\;"><span style="color: rgb(0\, 0\, 255)\;">A.S.A.P.P. BARBERSHOP &amp\; KENNESH RADIO</span></strong><span style="color: rgb(51\, 51\, 51)\; font-family: sans-serif\, Arial\, Verdana\, &quot\;Trebuchet MS&quot\;\; font-size: 13px\; background-color: rgb(255\, 255\, 255)\;">&nbsp\;&nbsp\;</span><br />\n&nbsp\;</div>\n
LOCATION:2832 Miller Avenue Fort Worth\, Texas 76105
UID:e.1262.4118
SEQUENCE:3
DTSTAMP:20260422T091652Z
URL:https://business.fwmbcc.org/events/details/grand-opening-larry-s-barber-college-4118
END:VEVENT

END:VCALENDAR
