BEGIN:VCALENDAR
VERSION:2.0
PRODID:-//ChamberMaster//Event Calendar 2.0//EN
METHOD:PUBLISH
X-PUBLISHED-TTL:P3D
REFRESH-INTERVAL:P3D
CALSCALE:GREGORIAN
BEGIN:VEVENT
DTSTART:20180301T173000Z
DTEND:20180301T190000Z
X-MICROSOFT-CDO-ALLDAYEVENT:FALSE
SUMMARY:"Gotcha!" What You Need to Know Before you Sign that Contract - A Lunch and Learn Event
DESCRIPTION:In a way\, many lawyers are like doctors - you tell them what hurts\, and they do their best to make the pain go away.\n\n						 \n\n						But to Dallas business attorney Chris McNeill\, that legal pain can be a symptom of a much larger issue\, and it's only when that bigger situation is dealt with that the legal pain (which started the whole thing) is often resolved much more smoothly.\n\n						 \n\n						 \n\n						A partner with Block & Garden\, LLP\, Chris specializes in small business law issues\, including negotiating and drafting general business agreements relating to intellectual property licensing agreements\, manufacturing\, warranty\, distribution\, supply\, employment\, joint ventures and software development.\n\n						 \n\n						 \n\n						Chris' practice also includes financial transactions\, mergers & acquisitions\, securities law\, bankruptcy\, corporate governance and litigation.\n\n						 \n\n						 \n\n						Before joining Block & Garden in 2007\, Chris was an associate with Fish & Richardson P.C. in Dallas\, where he practiced corporate and securities law. He was previously an associate with Fulbright & Jaworski in Dallas\, where he worked on corporate\, securities and transaction cases.\n\n						 \n\n						 \n\n						A graduate of Harvard Law School\, Chris holds a B.A. in Political Science from the University of Mississippi. He is a member of the Texas Bar Association and is admitted to practice before the federal courts for the Northern\, Eastern\, Western and Southern Districts of Texas and the bankruptcy court for the Eastern District of Texas.\n						\n						\n						\n						\n					\n				\n			\n			\n		\n		\n			\n			\n				\n					\n						\n						Get more information\n						\n					\n					\n						\n						Register Now!
X-ALT-DESC;FMTTYPE=text/html:<table border="0" cellpadding="0" cellspacing="0" class="m_4232061507757453251m_3075673544274633423RightColWidth" style="color: rgb(34\, 34\, 34)\; font-family: arial\, sans-serif\; font-size: 12.8px\; background-color: rgb(255\, 255\, 255)\; width: 385px\;" width="385">\n	<tbody>\n		<tr>\n			<td align="left" class="m_4232061507757453251m_3075673544274633423LeftColPad" colspan="1" rowspan="1" style="margin: 0px\; padding: 0px\;" valign="top" width="100%">\n			<table border="0" cellpadding="5" cellspacing="0" class="m_4232061507757453251m_3075673544274633423BlockMargin" id="m_4232061507757453251m_3075673544274633423content_LETTER.BLOCK5" style="margin-bottom: 5px\;" width="100%">\n				<tbody>\n					<tr>\n						<td align="left" class="m_4232061507757453251m_3075673544274633423MainText" colspan="1" id="m_4232061507757453251m_3075673544274633423evm-content-maintext" rowspan="1" style="font-family: Arial\, Helvetica\, sans-serif\; margin: 0px\; color: rgb(51\, 51\, 51)\; font-size: 10pt\;">\n						<div>\n						<div style="padding: 0px\; margin: 0px 0px 18px\; font-size: 12px\; line-height: 17.4px\;">\n						<div style="color: rgb(255\, 0\, 0)\; font-size: 12pt\;">\n						<div class="m_4232061507757453251m_3075673544274633423text--display3" graphik="" style="padding: 0px 0px 8px\; margin: 0px\; color: rgba(0\, 0\, 0\, 0.87)\; letter-spacing: -0.02em\; font-size: 28px\; line-height: 1.25\;">&nbsp\;</div>\n\n						<div><span style="color:#000000\;"><span style="font-size:12px\;"><span style="font-family:arial\;"><span style="background-image: initial\; background-position: initial\; background-size: initial\; background-repeat: initial\; background-attachment: initial\; background-origin: initial\; background-clip: initial\; line-height: 18.4px\;"><span style="line-height: 17.4px\;">In a way\, many lawyers are like doctors - you tell them what hurts\, and they do their best to make the pain go away.</span></span></span></span></span><br />\n						&nbsp\;</div>\n\n						<div><span style="color:#000000\;"><span style="font-size:12px\;"><span style="font-family:arial\;"><span style="background-image: initial\; background-position: initial\; background-size: initial\; background-repeat: initial\; background-attachment: initial\; background-origin: initial\; background-clip: initial\; line-height: 18.4px\;"><span style="line-height: 17.4px\;">But to Dallas business attorney Chris McNeill\, that legal pain can be a symptom of a much larger issue\, and it&#39\;s only when that bigger situation is dealt with that the legal pain (which started the whole thing) is often resolved much more smoothly.</span></span></span></span></span><br />\n						&nbsp\;</div>\n\n						<div>&nbsp\;</div>\n\n						<div><span style="color:#000000\;"><span style="font-size:12px\;"><span style="font-family:arial\;"><span style="background-image: initial\; background-position: initial\; background-size: initial\; background-repeat: initial\; background-attachment: initial\; background-origin: initial\; background-clip: initial\; line-height: 18.4px\;"><span style="line-height: 17.4px\;">A partner with Block &amp\; Garden\, LLP\, Chris specializes in small business law issues\, including negotiating and drafting general business agreements relating to intellectual property licensing agreements\, manufacturing\, warranty\, distribution\, supply\, employment\, joint ventures and software development.</span></span></span></span></span><br />\n						&nbsp\;</div>\n\n						<div>&nbsp\;</div>\n\n						<div><span style="color:#000000\;"><span style="font-size:12px\;"><span style="font-family:arial\;"><span style="background-image: initial\; background-position: initial\; background-size: initial\; background-repeat: initial\; background-attachment: initial\; background-origin: initial\; background-clip: initial\; line-height: 18.4px\;"><span style="line-height: 17.4px\;">Chris&#39\; practice also includes financial transactions\, mergers &amp\; acquisitions\, securities law\, bankruptcy\, corporate governance and litigation.</span></span></span></span></span><br />\n						&nbsp\;</div>\n\n						<div>&nbsp\;</div>\n\n						<div><span style="color:#000000\;"><span style="font-size:12px\;"><span style="font-family:arial\;"><span style="background-image: initial\; background-position: initial\; background-size: initial\; background-repeat: initial\; background-attachment: initial\; background-origin: initial\; background-clip: initial\; line-height: 18.4px\;"><span style="line-height: 17.4px\;">Before joining Block &amp\; Garden in 2007\, Chris was an associate with Fish &amp\; Richardson P.C. in Dallas\, where he practiced corporate and securities law. He was previously an associate with Fulbright &amp\; Jaworski in Dallas\, where he worked on corporate\, securities and transaction cases.</span></span></span></span></span><br />\n						&nbsp\;</div>\n\n						<div>&nbsp\;</div>\n\n						<div><span style="color:#000000\;"><span style="font-size:12px\;"><span style="font-family:arial\;"><span style="background-image: initial\; background-position: initial\; background-size: initial\; background-repeat: initial\; background-attachment: initial\; background-origin: initial\; background-clip: initial\; line-height: 18.4px\;"><span style="line-height: 17.4px\;">A graduate of Harvard Law School\, Chris holds a B.A. in Political Science from the University of Mississippi. He is a member of the Texas Bar Association and is admitted to practice before the federal courts for the Northern\, Eastern\, Western and Southern Districts of Texas and the bankruptcy court for the Eastern District of Texas.</span></span></span></span></span></div>\n						</div>\n						</div>\n						</div>\n						</td>\n					</tr>\n				</tbody>\n			</table>\n			</td>\n		</tr>\n		<tr>\n			<td align="left" colspan="1" rowspan="1" style="margin: 0px\;" valign="top" width="100%">\n			<table border="0" cellpadding="5" cellspacing="0" class="m_4232061507757453251m_3075673544274633423BlockMargin" style="margin-bottom: 5px\;" width="100%">\n				<tbody>\n					<tr>\n						<td align="center" class="m_4232061507757453251m_3075673544274633423cc-register m_4232061507757453251m_3075673544274633423cc-link-sm" colspan="1" rowspan="1" style="font-family: Arial\, Helvetica\, sans-serif\; margin: 0px\; color: rgb(51\, 51\, 51)\; font-size: 12pt\;">\n						<p><span style="font-size:12px\;"><span style="font-family:arial\;"><a class="m_4232061507757453251m_3075673544274633423cc-register m_4232061507757453251m_3075673544274633423cc-link-sm" data-saferedirecturl="https://www.google.com/url?hl=en&amp\;q=http://events.r20.constantcontact.com/register/event?oeidk%3Da07eez2zg3822626b50%26c%3D6f5d43b0-93e0-11e7-a5d6-d4ae52806905%26ch%3D6f8e65d0-93e0-11e7-a5d6-d4ae52806905&amp\;source=gmail&amp\;ust=1518041252652000&amp\;usg=AFQjCNEm45Jnmqs7NCHh28_OvXNvEJ1PrA" href="http://events.r20.constantcontact.com/register/event?oeidk=a07eez2zg3822626b50&amp\;c=6f5d43b0-93e0-11e7-a5d6-d4ae52806905&amp\;ch=6f8e65d0-93e0-11e7-a5d6-d4ae52806905" id="m_4232061507757453251m_3075673544274633423lnkMoreInfo" shape="rect" style="color: rgb(51\, 51\, 51)\; font-size: 12pt\;" target="_blank" title="Get more information"><span style="color:#000000\;">Get more information</span></a></span></span></p>\n						</td>\n					</tr>\n					<tr>\n						<td align="center" class="m_4232061507757453251m_3075673544274633423cc-register" colspan="1" rowspan="1" style="font-family: Arial\, Helvetica\, sans-serif\; margin: 0px\; color: rgb(51\, 51\, 51)\; font-size: 14pt\;">\n						<p><span style="font-size:12px\;"><span style="font-family:arial\;"><b><a class="m_4232061507757453251m_3075673544274633423cc-register" data-saferedirecturl="https://www.google.com/url?hl=en&amp\;q=http://events.r20.constantcontact.com/register/regform?oeidk%3Da07eez2zg3822626b50%26c%3D6f5d43b0-93e0-11e7-a5d6-d4ae52806905%26ch%3D6f8e65d0-93e0-11e7-a5d6-d4ae52806905&amp\;source=gmail&amp\;ust=1518041252652000&amp\;usg=AFQjCNEROk_zndxMIQW9TYM3Xhh-wj5Bbw" href="http://events.r20.constantcontact.com/register/regform?oeidk=a07eez2zg3822626b50&amp\;c=6f5d43b0-93e0-11e7-a5d6-d4ae52806905&amp\;ch=6f8e65d0-93e0-11e7-a5d6-d4ae52806905" id="m_4232061507757453251m_3075673544274633423lnkRegister" shape="rect" style="color: rgb(51\, 51\, 51)\; font-size: 14pt\;" target="_blank" title="Register Now!"><span style="color:#000000\;">Register Now!</span></a></b></span></span></p>\n						</td>\n					</tr>\n				</tbody>\n			</table>\n			</td>\n		</tr>\n	</tbody>\n</table>\n
LOCATION:PinnStation 201 E. Abram Street #120 Arlington\, Texas 76010
UID:e.1262.3073
SEQUENCE:3
DTSTAMP:20260422T041301Z
URL:https://business.fwmbcc.org/events/details/gotcha-what-you-need-to-know-before-you-sign-that-contract-a-lunch-and-learn-event-3073
END:VEVENT

END:VCALENDAR
