BEGIN:VCALENDAR
VERSION:2.0
PRODID:-//ChamberMaster//Event Calendar 2.0//EN
METHOD:PUBLISH
X-PUBLISHED-TTL:P3D
REFRESH-INTERVAL:P3D
CALSCALE:GREGORIAN
BEGIN:VEVENT
DTSTART:20160417T170000Z
DTEND:20160417T210000Z
X-MICROSOFT-CDO-ALLDAYEVENT:FALSE
SUMMARY:Golf Tournament
DESCRIPTION:Anyone interested in playing golf at The Cowboys Golf Club? There is a tournament benefiting the Dallas Fort Worth Dillard University Alumni Chapter on April 17th.  $175 per golfer or $700 per team.  You get an awesome gift bag\, lunch before tee time\, and dinner after you finish.  It's a great event and you get to meet some really good people while you are there.\n\n\n\nClick here for more info
X-ALT-DESC;FMTTYPE=text/html:<span style="color: rgb(34\, 34\, 34)\; font-family: arial\, sans-serif\; font-size: 12.8px\; line-height: normal\;">Anyone interested in playing golf at The Cowboys Golf Club? There is a tournament benefiting the Dallas Fort Worth Dillard University Alumni Chapter on&nbsp\;</span><span class="aBn" data-term="goog_1578392174" style="border-bottom-width: 1px\; border-bottom-style: dashed\; border-bottom-color: rgb(204\, 204\, 204)\; position: relative\; top: -2px\; z-index: 0\; color: rgb(34\, 34\, 34)\; font-family: arial\, sans-serif\; font-size: 12.8px\; line-height: normal\;" tabindex="0"><span class="aQJ" style="position: relative\; top: 2px\; z-index: -1\;">April 17th</span></span><span style="color: rgb(34\, 34\, 34)\; font-family: arial\, sans-serif\; font-size: 12.8px\; line-height: normal\;">.&nbsp\; $175 per golfer or $700 per team.&nbsp\; You get an awesome gift bag\, lunch before tee time\, and dinner after you finish.&nbsp\; It&#39\;s a great event and you get to meet some really good people while you are there.</span><br />\n<br />\n<a href="http://us8.campaign-archive2.com/?u=4d9913f274832c4cc3036db97&amp\;id=70a7a01293">Click here for more info</a>
LOCATION:Cowboys Golf Club 1600 Fairway Drive Grapevine\, TX
UID:e.1262.2844
SEQUENCE:3
DTSTAMP:20260422T091308Z
URL:https://business.fwmbcc.org/events/details/golf-tournament-04-17-2016-2844
END:VEVENT

END:VCALENDAR
