BEGIN:VCALENDAR
VERSION:2.0
PRODID:-//ChamberMaster//Event Calendar 2.0//EN
METHOD:PUBLISH
X-PUBLISHED-TTL:P3D
REFRESH-INTERVAL:P3D
CALSCALE:GREGORIAN
BEGIN:VEVENT
DTSTART:20160531T233000Z
DTEND:20160601T010000Z
X-MICROSOFT-CDO-ALLDAYEVENT:FALSE
SUMMARY:Goldman Sachs Quarterly Information Session
DESCRIPTION:With Goldman Sachs 10\,000 Small Businesses you gain practical business skills\, and if accepted\, program tuition will be at no cost to you.
X-ALT-DESC;FMTTYPE=text/html:<strong>With Goldman Sachs 10\,000 Small Businesses you gain practical business skills\, and if accepted\, program tuition will be at no cost to you.</strong>
LOCATION:Business Assistance Center at 1150 S. Freeway\, Ft. Worth TX
UID:e.1262.2413
SEQUENCE:3
DTSTAMP:20260422T073623Z
URL:https://business.fwmbcc.org/events/details/goldman-sachs-quarterly-information-session-05-31-2016-2413
END:VEVENT

END:VCALENDAR
