BEGIN:VCALENDAR
VERSION:2.0
PRODID:-//ChamberMaster//Event Calendar 2.0//EN
METHOD:PUBLISH
X-PUBLISHED-TTL:P3D
REFRESH-INTERVAL:P3D
CALSCALE:GREGORIAN
BEGIN:VEVENT
DTSTART:20160203T003000Z
DTEND:20160203T020000Z
X-MICROSOFT-CDO-ALLDAYEVENT:FALSE
SUMMARY:Goldman Sachs Quarterly Information Session
DESCRIPTION:Criteria for the Program: Owner/Co owner or Decision Maker\; Business has been in operation for 2+ years\; Min. gross revenue of $150\,000 recently and Minimum of 4 employees (including owner/decision maker)  With Goldman Sachs 10\,000 Small Businesses\, you will gain practical business skills and if accepted\, program tuition will be at no cost to you!
X-ALT-DESC;FMTTYPE=text/html:<strong>Criteria for the Program: Owner/Co owner or Decision Maker\; Business has been in operation for 2+ years\; Min. gross revenue of $150\,000 recently and Minimum of 4 employees (including owner/decision maker) &nbsp\;</strong>With <strong>Goldman Sachs 10\,000 Small Businesses</strong>\, you will gain practical business skills and if accepted\, program tuition will be at no cost to you!
LOCATION:Business Assistance Center located at 1150 S. Freeway\, Ft. Worth Tx
UID:e.1262.2412
SEQUENCE:3
DTSTAMP:20260422T121955Z
URL:https://business.fwmbcc.org/events/details/goldman-sachs-quarterly-information-session-02-02-2016-2412
END:VEVENT

END:VCALENDAR
