BEGIN:VCALENDAR
VERSION:2.0
PRODID:-//ChamberMaster//Event Calendar 2.0//EN
METHOD:PUBLISH
X-PUBLISHED-TTL:P3D
REFRESH-INTERVAL:P3D
CALSCALE:GREGORIAN
BEGIN:VEVENT
DTSTART:20150910T233000Z
DTEND:20150911T010000Z
X-MICROSOFT-CDO-ALLDAYEVENT:FALSE
SUMMARY:Goldman Sachs 10\,000 Small Business Quarterly Presentation
DESCRIPTION:Requirements: Owner or co-owner of a company in operation 2 years\, employs 4 people or more and $150\,000.00 minimum in revenue. Learn from the brightest and if accepted\, program tuition will be at no cost to you!
X-ALT-DESC;FMTTYPE=text/html:Requirements: Owner or co-owner of a company in operation 2 years\, employs 4 people or more and $150\,000.00 minimum in revenue. Learn from the brightest and if accepted\, program tuition will be at no cost to you!
LOCATION:Business Assistance Center\, 1150 S. Freeway\, Ft. Worth Tx 76104
UID:e.1262.2236
SEQUENCE:3
DTSTAMP:20260422T073820Z
URL:https://business.fwmbcc.org/events/details/goldman-sachs-10-000-small-business-quarterly-presentation-09-10-2015-2236
END:VEVENT

END:VCALENDAR
