BEGIN:VCALENDAR
VERSION:2.0
PRODID:-//ChamberMaster//Event Calendar 2.0//EN
METHOD:PUBLISH
X-PUBLISHED-TTL:P3D
REFRESH-INTERVAL:P3D
CALSCALE:GREGORIAN
BEGIN:VEVENT
DTSTART:20170913T170000Z
DTEND:20171022T170000Z
X-MICROSOFT-CDO-ALLDAYEVENT:FALSE
SUMMARY:Going to the Fair? Take TRE There!
DESCRIPTION:Getting there is half the fun when you take the Trinity Trailway Express to the 2017 State Fair of Texas. It's the BEST ride there! Make riding TRE part of your fair experience and you'll get there without the hassle of traffic\, the stress of parking and with a few extra dollars in your pocket for a famous corny dog. Plan your trip at www.FWTA.org/FairTRE
X-ALT-DESC;FMTTYPE=text/html:Getting there is half the fun when you take the Trinity Trailway Express to the 2017 State Fair of Texas. It&#39\;s the BEST ride there! Make riding TRE part of your fair experience and you&#39\;ll get there without the hassle of traffic\, the stress of parking and with a few extra dollars in your pocket for a famous corny dog. Plan your trip at www.FWTA.org/FairTRE
LOCATION:The Trinity Railway Express travels from Downtown Fort Worth to Downtown Dallas. Stations include Texas & Pacific (Downtown Fort Worth)\, Intermodal Transportation Center (Downtown Fort Worth)\, Richland Hills\, Bell\, CentrePort\, West Irving\, Downtown Irving\, Medical/Market Center\, Victory and Union Station (Downtown Dallas). Use TRE to meet up with DART's Green Line at Victory Station for front gate service to Fair Park.
UID:e.1262.3050
SEQUENCE:3
DTSTAMP:20260421T173959Z
URL:https://business.fwmbcc.org/events/details/going-to-the-fair-take-tre-there-3050
END:VEVENT

END:VCALENDAR
