BEGIN:VCALENDAR
VERSION:2.0
PRODID:-//ChamberMaster//Event Calendar 2.0//EN
METHOD:PUBLISH
X-PUBLISHED-TTL:P3D
REFRESH-INTERVAL:P3D
CALSCALE:GREGORIAN
BEGIN:VEVENT
DTSTART:20160130T143000Z
DTEND:20160130T170000Z
X-MICROSOFT-CDO-ALLDAYEVENT:FALSE
SUMMARY:FWMBCC Women's Business Division Get the Women 2016 Kickoff Breakfast
DESCRIPTION:Learn about the 2016 Vision and Mission of the FWMBCC Women's Business Division and how you can get connected. The attire is business casual and be sure to bring plenty of cards and flyers regarding your business.  Great networking opportunity.
X-ALT-DESC;FMTTYPE=text/html:Learn about the 2016 Vision and Mission of the FWMBCC Women&#39\;s Business Division and how you can get connected. The attire is business casual and be sure to bring plenty of cards and flyers regarding your business. &nbsp\;Great networking opportunity.
LOCATION:Forest Hill Civic & Convention Center - 6901 Wichita St.\, Fort Worth\, TX
UID:e.1262.2317
SEQUENCE:3
DTSTAMP:20260422T135535Z
URL:https://business.fwmbcc.org/events/details/fwmbcc-women-s-business-division-get-the-women-2016-kickoff-breakfast-01-30-2016-2317
END:VEVENT

END:VCALENDAR
