BEGIN:VCALENDAR
VERSION:2.0
PRODID:-//ChamberMaster//Event Calendar 2.0//EN
METHOD:PUBLISH
X-PUBLISHED-TTL:P3D
REFRESH-INTERVAL:P3D
CALSCALE:GREGORIAN
BEGIN:VEVENT
DTSTART:20170224T000000Z
DTEND:20170224T003000Z
X-MICROSOFT-CDO-ALLDAYEVENT:FALSE
SUMMARY:FWMBCC Open House Speaker Series
DESCRIPTION:This month's FWMBCC Open House reception will feature Texas State Sen. Konni Burton who wants to meet Chamber members and discuss her priorities for the 2017 Legislative Session.\n\n \n\nBurton\, who was a top organizer for Ted Cruz's 2012 U. S. Senate campaign\, was elected to the Texas Senate from District 10 in 2014.\n\n \n\nThe Open House\, which is free\, will be from 6 p.m. to 7:30 p.m. Thursday\, February 23\, at the Business Assistance Center\, Pharma Fab Conference Room\, 1150 South Freeway\, Fort Worth Texas.\n\n \n\nCome by and have a conversation with one of your top representatives in Austin.\n\n \n\nFor more information\, contact Jeremiah Anderson at janderson@fwmbcc.org.
X-ALT-DESC;FMTTYPE=text/html:<span style="font-size:14px\;"><span style="font-family:times new roman\;"><strong>This month&rsquo\;s FWMBCC Open House reception will feature Texas State Sen. Konni Burton who wants to meet Chamber members and discuss her priorities for the 2017 Legislative Session.</strong><br />\n&nbsp\;<br />\n<strong>Burton\, who was a top organizer for Ted Cruz&rsquo\;s 2012 U. S. Senate campaign\, was elected to the Texas Senate from District 10 in 2014.</strong><br />\n&nbsp\;<br />\n<strong>The Open House\, which is free\, will be from 6 p.m. to 7:30 p.m. Thursday\, February 23\, at the Business Assistance Center\, Pharma Fab Conference Room\, 1150 South Freeway\, Fort Worth Texas.</strong><br />\n&nbsp\;<br />\n<strong>Come by and have a conversation with one of your top representatives in Austin.</strong><br />\n&nbsp\;<br />\n<strong>For more information\, contact Jeremiah Anderson at janderson@fwmbcc.org.</strong></span></span>
LOCATION:Business Assistance Center\, Pharma Fab Conference Room\, 1150 South Freeway\, Fort Worth Texas.
UID:e.1262.2908
SEQUENCE:3
DTSTAMP:20260421T173854Z
URL:https://business.fwmbcc.org/events/details/fwmbcc-open-house-speaker-series-2908
END:VEVENT

END:VCALENDAR
