BEGIN:VCALENDAR
VERSION:2.0
PRODID:-//ChamberMaster//Event Calendar 2.0//EN
METHOD:PUBLISH
X-PUBLISHED-TTL:P3D
REFRESH-INTERVAL:P3D
CALSCALE:GREGORIAN
BEGIN:VEVENT
DTSTART:20161221T223000Z
DTEND:20161222T000000Z
X-MICROSOFT-CDO-ALLDAYEVENT:FALSE
SUMMARY:FWMBCC Economic Development Meeting
DESCRIPTION:Bi monthly Economic Development Meeting. Open to the Public
X-ALT-DESC;FMTTYPE=text/html:Bi monthly Economic Development Meeting. Open to the Public
LOCATION:1150 S. Freeway\, Suite 211\, Ft. Worth\, TX
UID:e.1262.2483
SEQUENCE:3
DTSTAMP:20260421T203857Z
URL:https://business.fwmbcc.org/events/details/fwmbcc-economic-development-meeting-12-21-2016-2483
END:VEVENT

END:VCALENDAR
