BEGIN:VCALENDAR
VERSION:2.0
PRODID:-//ChamberMaster//Event Calendar 2.0//EN
METHOD:PUBLISH
X-PUBLISHED-TTL:P3D
REFRESH-INTERVAL:P3D
CALSCALE:GREGORIAN
BEGIN:VEVENT
DTSTART:20161019T213000Z
DTEND:20161019T230000Z
X-MICROSOFT-CDO-ALLDAYEVENT:FALSE
SUMMARY:FWMBCC Economic Development Meeting
DESCRIPTION:Bi monthly Economic Development Meeting. Open to the public
X-ALT-DESC;FMTTYPE=text/html:Bi monthly Economic Development Meeting. Open to the public
LOCATION:1150 S. Freeway\, Suite 211\, Ft. Worth TX
UID:e.1262.2482
SEQUENCE:3
DTSTAMP:20260421T233510Z
URL:https://business.fwmbcc.org/events/details/fwmbcc-economic-development-meeting-10-19-2016-2482
END:VEVENT

END:VCALENDAR
