BEGIN:VCALENDAR
VERSION:2.0
PRODID:-//ChamberMaster//Event Calendar 2.0//EN
METHOD:PUBLISH
X-PUBLISHED-TTL:P3D
REFRESH-INTERVAL:P3D
CALSCALE:GREGORIAN
BEGIN:VEVENT
DTSTART:20160420T213000Z
DTEND:20160420T230000Z
X-MICROSOFT-CDO-ALLDAYEVENT:FALSE
SUMMARY:FWMBCC Economic Development Meeting
DESCRIPTION:Bi monthly meeting of the Economic Development Committee. Open to the public
X-ALT-DESC;FMTTYPE=text/html:Bi monthly meeting of the Economic Development Committee. Open to the public
LOCATION:1150 S. Freeway\, Suite 211\, Ft. Worth Tx
UID:e.1262.2479
SEQUENCE:3
DTSTAMP:20260422T091220Z
URL:https://business.fwmbcc.org/events/details/fwmbcc-economic-development-meeting-04-20-2016-2479
END:VEVENT

END:VCALENDAR
