BEGIN:VCALENDAR
VERSION:2.0
PRODID:-//ChamberMaster//Event Calendar 2.0//EN
METHOD:PUBLISH
X-PUBLISHED-TTL:P3D
REFRESH-INTERVAL:P3D
CALSCALE:GREGORIAN
BEGIN:VEVENT
DTSTART:20150619T164500Z
DTEND:20150619T190000Z
X-MICROSOFT-CDO-ALLDAYEVENT:FALSE
SUMMARY:FWMBCC 35TH Annual Awards Luncheon
DESCRIPTION:Fort Worth Metropolitan Black Chamber of Commerce presents the\n\n35th Annual Awards Luncheon \n\nfeaturing\n\nTexas Governor Greg Abbott\n\nKeynote Speaker\n\n\n\nwith Introduction by\n\nTracye McDaniel\n\nPresident & CEO\, Texas Economic Development Corporation\n\n\n\n"Juneteenth: Liberty & Justice for All\n\nEconomic\, Judicial\, Social & Civic Righteousness"
X-ALT-DESC;FMTTYPE=text/html:Fort Worth Metropolitan Black Chamber of Commerce presents the<br />\n<span style="font-size: 16px\;"><strong>35th Annual Awards Luncheon</strong> </span><br />\n<em>featuring</em><br />\n<span style="font-size: 14px\;"><strong>Texas Governor Greg Abbott</strong></span><br />\nKeynote Speaker<br />\n<br />\n<em>with Introduction by</em><br />\n<span style="font-size: 14px\;"><strong>Tracye McDaniel</strong></span><br />\nPresident &amp\; CEO\, Texas Economic Development Corporation<br />\n<br />\n<span style="font-size: 14px\;"><strong>&quot\;Juneteenth: Liberty &amp\; Justice for All<br />\n<em>Economic\, Judicial\, Social &amp\; Civic Righteousness&quot\;</em></strong></span>
LOCATION:Hilton Fort Worth 815 Main Street (Downtown)
UID:e.1262.2191
SEQUENCE:3
DTSTAMP:20260422T023406Z
URL:https://business.fwmbcc.org/events/details/fwmbcc-35th-annual-awards-luncheon-06-19-2015-2191
END:VEVENT

END:VCALENDAR
