BEGIN:VCALENDAR
VERSION:2.0
PRODID:-//ChamberMaster//Event Calendar 2.0//EN
METHOD:PUBLISH
X-PUBLISHED-TTL:P3D
REFRESH-INTERVAL:P3D
CALSCALE:GREGORIAN
BEGIN:VEVENT
DTSTART:20160127T210000Z
DTEND:20160127T220000Z
X-MICROSOFT-CDO-ALLDAYEVENT:FALSE
SUMMARY:FWISD VPA/STEM Academay Subcontractor Event
DESCRIPTION:FWISD VPA/Stem Academy Subcontractor Outreach Event- Learn about future opportunities with Con-Real\, Turner Construction and Source Building Group for FWISD Amon Carter Riverside HS and Western Hills HS.
X-ALT-DESC;FMTTYPE=text/html:<strong>FWISD VPA/Stem Academy Subcontractor Outreach Event- Learn about future opportunities with Con-Real\, Turner Construction and Source Building Group for FWISD Amon Carter Riverside HS and Western Hills HS.</strong>
LOCATION:Wilkerson Greines Athletic Center Gymnasium\, 5201 CA Roberson Blvd\, Ft. Worth TX
UID:e.1262.2410
SEQUENCE:3
DTSTAMP:20260422T135508Z
URL:https://business.fwmbcc.org/events/details/fwisd-vpa-stem-academay-subcontractor-event-01-27-2016-2410
END:VEVENT

END:VCALENDAR
