BEGIN:VCALENDAR
VERSION:2.0
PRODID:-//ChamberMaster//Event Calendar 2.0//EN
METHOD:PUBLISH
X-PUBLISHED-TTL:P3D
REFRESH-INTERVAL:P3D
CALSCALE:GREGORIAN
BEGIN:VEVENT
DTSTART:20150923T210000Z
DTEND:20150923T230000Z
X-MICROSOFT-CDO-ALLDAYEVENT:FALSE
SUMMARY:FWISD Capital Improvement Program-BID REVIEW
DESCRIPTION:Ft. Worth ISD hosting a Bid Preview for upcoming Phase 2 projects. This event provides an opportunity for the costruction community to learn specifics about upcoming bid opportunities. M/WBE Program requirements will be covered.
X-ALT-DESC;FMTTYPE=text/html:Ft. Worth ISD hosting a Bid Preview for upcoming Phase 2 projects. This event provides an opportunity for the costruction community to learn specifics about upcoming bid opportunities. M/WBE Program requirements will be covered.
LOCATION:Wilkerson-Greines Activity Center\, 5201 CA Roberson Blvd.\, Ft Worth TX
UID:e.1262.2264
SEQUENCE:3
DTSTAMP:20260422T091639Z
URL:https://business.fwmbcc.org/events/details/fwisd-capital-improvement-program-bid-review-09-23-2015-2264
END:VEVENT

END:VCALENDAR
