BEGIN:VCALENDAR
VERSION:2.0
PRODID:-//ChamberMaster//Event Calendar 2.0//EN
METHOD:PUBLISH
X-PUBLISHED-TTL:P3D
REFRESH-INTERVAL:P3D
CALSCALE:GREGORIAN
BEGIN:VEVENT
DTSTART:20150919T233000Z
DTEND:20150920T050000Z
X-MICROSOFT-CDO-ALLDAYEVENT:FALSE
SUMMARY:FW Opera Presidential Gala
DESCRIPTION:Celebration launching the Fort Worth Opera 2016 Festival Season and world premiere of JFK with a Presidential gala. Cocktail & hors d'oeuvres reception followed by a presidential dinner. After party includes a casino\, cocktails\, desserts and dancing.
X-ALT-DESC;FMTTYPE=text/html:Celebration launching the Fort Worth Opera 2016 Festival Season and world premiere of JFK with a Presidential gala. Cocktail &amp\; hors d&#39\;oeuvres reception followed by a presidential dinner. After party includes a casino\, cocktails\, desserts and dancing.
LOCATION:Worthington Renaissance Hotel\, Fort Worth Texas
UID:e.1262.2241
SEQUENCE:3
DTSTAMP:20260422T091418Z
URL:https://business.fwmbcc.org/events/details/fw-opera-presidential-gala-09-19-2015-2241
END:VEVENT

END:VCALENDAR
