BEGIN:VCALENDAR
VERSION:2.0
PRODID:-//ChamberMaster//Event Calendar 2.0//EN
METHOD:PUBLISH
X-PUBLISHED-TTL:P3D
REFRESH-INTERVAL:P3D
CALSCALE:GREGORIAN
BEGIN:VEVENT
DTSTART:20160217T180000Z
DTEND:20160217T190000Z
X-MICROSOFT-CDO-ALLDAYEVENT:FALSE
SUMMARY:Ft Worth Metropolitan Black Chamber Day at MLCC-Delaware North Co. Presentation
DESCRIPTION:Delaware North Company(DNC) VP of New Business Development\, James Wilson\, will be the guest speaker to discuss entrepreneurship and the opportunity to work with DNC.  DNC is looking for those interested in becoming owner/operators for the following concepts: retail & restaurants.  Parties with a background in the retail or restaurant fields are preferred.  During this one hour session the representative will be able to answer any questions you may have and will move forward as they see fit.  DNC has provided a short list of items they would consider for the convenience store concept in the airport.  The following items are examples: BBQ rubs\; Jams\; Sauces\; Candles\; Cakes\; Pies\; Small food items with a good shelf life: preferably non-perishable\, canned or packaged.  Or similar items.\n\nSee you there!!
X-ALT-DESC;FMTTYPE=text/html:Delaware North Company(DNC) VP of New Business Development\, James Wilson\, will be the guest speaker to discuss entrepreneurship and the opportunity to work with DNC. &nbsp\;DNC is looking for those interested in becoming owner/operators for the following concepts: retail &amp\; restaurants.<strong> &nbsp\;Parties with a background in the retail or restaurant fields are preferred. &nbsp\;During this one hour session the representative will be able to answer any questions you may have and will move forward as they see fit. &nbsp\;</strong>DNC has provided a short list of items they would consider for the convenience store concept in the <strong>airport.</strong> &nbsp\;The following items are examples:&nbsp\;<strong>BBQ rubs\; Jams\; Sauces\; Candles\; Cakes\; Pies\; Small food items with a good shelf life: preferably non-perishable\, canned or packaged. &nbsp\;Or similar items.<br />\nSee you there!!</strong><br />\n&nbsp\;
LOCATION:Community Christian Church\, 1720 E. Vickery Blvd.\, Ft. Worth TX 76104
UID:e.1262.2217
SEQUENCE:3
DTSTAMP:20260422T122015Z
URL:https://business.fwmbcc.org/events/details/ft-worth-metropolitan-black-chamber-day-at-mlcc-delaware-north-co-presentation-02-17-2016-2217
END:VEVENT

END:VCALENDAR
