BEGIN:VCALENDAR
VERSION:2.0
PRODID:-//ChamberMaster//Event Calendar 2.0//EN
METHOD:PUBLISH
X-PUBLISHED-TTL:P3D
REFRESH-INTERVAL:P3D
CALSCALE:GREGORIAN
BEGIN:VEVENT
DTSTART:20160423T150000Z
DTEND:20160423T190000Z
X-MICROSOFT-CDO-ALLDAYEVENT:FALSE
SUMMARY:Ft. Worth Family Safety Day-SAVE THE DATE
DESCRIPTION:Events include more than 140 health wellness exhibitors\, financial education\, crime prevention and public safety exhibits\, touch-a-truck\, parade of mascots and a variety of exhibitors. More information coming soon!!
X-ALT-DESC;FMTTYPE=text/html:<strong>Events include more than 140 health wellness exhibitors\, financial education\, crime prevention and public safety exhibits\, touch-a-truck\, parade of mascots and a variety of exhibitors. More information coming soon!!</strong>
LOCATION:La Gran Plaza Mall\, 4200 South Freeway\, Fort Worth Tx
UID:e.1262.2486
SEQUENCE:3
DTSTAMP:20260422T104844Z
URL:https://business.fwmbcc.org/events/details/ft-worth-family-safety-day-save-the-date-04-23-2016-2486
END:VEVENT

END:VCALENDAR
