BEGIN:VCALENDAR
VERSION:2.0
PRODID:-//ChamberMaster//Event Calendar 2.0//EN
METHOD:PUBLISH
X-PUBLISHED-TTL:P3D
REFRESH-INTERVAL:P3D
CALSCALE:GREGORIAN
BEGIN:VEVENT
DTSTART:20151117T003000Z
DTEND:20151117T040000Z
X-MICROSOFT-CDO-ALLDAYEVENT:FALSE
SUMMARY:Ft. Worth Business Press\, Great Women of Texas
DESCRIPTION:Join the Ft. Worth Business Press as they honor women from the area who are recognized for their accomplishments in business\, civic and social contributions.
X-ALT-DESC;FMTTYPE=text/html:Join the Ft. Worth Business Press as they honor women from the area who are recognized for their accomplishments in business\, civic and social contributions.
LOCATION:The Fort Worth Club
UID:e.1262.2280
SEQUENCE:3
DTSTAMP:20260422T105446Z
URL:https://business.fwmbcc.org/events/details/ft-worth-business-press-great-women-of-texas-11-16-2015-2280
END:VEVENT

END:VCALENDAR
