BEGIN:VCALENDAR
VERSION:2.0
PRODID:-//ChamberMaster//Event Calendar 2.0//EN
METHOD:PUBLISH
X-PUBLISHED-TTL:P3D
REFRESH-INTERVAL:P3D
CALSCALE:GREGORIAN
BEGIN:VEVENT
DTSTART:20151022T223000Z
DTEND:20151023T010000Z
X-MICROSOFT-CDO-ALLDAYEVENT:FALSE
SUMMARY:Ft. Worth Business Plan Competition
DESCRIPTION:2015 Ft. Worth Business Plan Competition sponsored by the Ft. Worth Business Assistance Center
X-ALT-DESC;FMTTYPE=text/html:2015 Ft. Worth Business Plan Competition sponsored by the Ft. Worth Business Assistance Center
LOCATION:Dee J. Kelly Alumni & Visitors Center\, Texas Christian University
UID:e.1262.2278
SEQUENCE:3
DTSTAMP:20260422T091244Z
URL:https://business.fwmbcc.org/events/details/ft-worth-business-plan-competition-10-22-2015-2278
END:VEVENT

END:VCALENDAR
