BEGIN:VCALENDAR
VERSION:2.0
PRODID:-//ChamberMaster//Event Calendar 2.0//EN
METHOD:PUBLISH
X-PUBLISHED-TTL:P3D
REFRESH-INTERVAL:P3D
CALSCALE:GREGORIAN
BEGIN:VEVENT
DTSTART:20160212T000000Z
DTEND:20160212T020000Z
X-MICROSOFT-CDO-ALLDAYEVENT:FALSE
SUMMARY:Free Purpose Workshop-Blue Zones Project hosted by FWMBCC Women's Business Division
DESCRIPTION:Attend a free 2 hour Purpose Workshop hosted by FWMBCC Women's Business Division and Blue Zones Project by Healthways. Take home tools to be the best possible you. Light refreshments served
X-ALT-DESC;FMTTYPE=text/html:<strong>Attend a free 2 hour Purpose Workshop hosted by FWMBCC Women&#39\;s Business Division and Blue Zones Project by Healthways. Take home tools to be the best possible you. Light refreshments served</strong>
LOCATION:Tarrant County College-South Campus-Rotunda Building in the Forum Room at 5301 Campus Drive\, Fort Worth TX
UID:e.1262.2365
SEQUENCE:3
DTSTAMP:20260422T122233Z
URL:https://business.fwmbcc.org/events/details/free-purpose-workshop-blue-zones-project-hosted-by-fwmbcc-women-s-business-division-02-11-2016-2365
END:VEVENT

END:VCALENDAR
