BEGIN:VCALENDAR
VERSION:2.0
PRODID:-//ChamberMaster//Event Calendar 2.0//EN
METHOD:PUBLISH
X-PUBLISHED-TTL:P3D
REFRESH-INTERVAL:P3D
CALSCALE:GREGORIAN
BEGIN:VEVENT
DTSTART:20160811T230000Z
DTEND:20160812T010000Z
X-MICROSOFT-CDO-ALLDAYEVENT:FALSE
SUMMARY:Free Purpose Workshop-Blue Zones Project hosted by FWMBCC Women's Business Div.
DESCRIPTION:Attend a free 2 hour Purpose Workshop hosted by the FWMBCC Women's Division and Blue Zones Project. Take home tools to be the best possible you. Light refreshments served
X-ALT-DESC;FMTTYPE=text/html:Attend a free 2 hour Purpose Workshop hosted by the FWMBCC Women&#39\;s Division and Blue Zones Project. Take home tools to be the best possible you. Light refreshments served
LOCATION:TCCD South Campus-Rotunda Building in the Forum Room at 5301 Campus Dr.\, Ft. Worth TX
UID:e.1262.2367
SEQUENCE:3
DTSTAMP:20260422T023646Z
URL:https://business.fwmbcc.org/events/details/free-purpose-workshop-blue-zones-project-hosted-by-fwmbcc-women-s-business-div-08-11-2016-2367
END:VEVENT

END:VCALENDAR
