BEGIN:VCALENDAR
VERSION:2.0
PRODID:-//ChamberMaster//Event Calendar 2.0//EN
METHOD:PUBLISH
X-PUBLISHED-TTL:P3D
REFRESH-INTERVAL:P3D
CALSCALE:GREGORIAN
BEGIN:VEVENT
DTSTART:20160609T230000Z
DTEND:20160610T010000Z
X-MICROSOFT-CDO-ALLDAYEVENT:FALSE
SUMMARY:Free Purpose Workshop- Blue Zones Project hosted by FWMBCC Women's Bus. Division
DESCRIPTION:Attend a free 2 hour Purpose Workshop hosted by FWMBCC Women's Business Division and Blue Zones Project. Take home tools to be the best possible you. Light refreshments served
X-ALT-DESC;FMTTYPE=text/html:<strong>Attend a free 2 hour Purpose Workshop hosted by FWMBCC Women&#39\;s Business Division and Blue Zones Project. Take home tools to be the best possible you. Light refreshments served</strong>
LOCATION:TCCD South Campus-Rotunda Building in the Forum Room
UID:e.1262.2366
SEQUENCE:3
DTSTAMP:20260422T055039Z
URL:https://business.fwmbcc.org/events/details/free-purpose-workshop-blue-zones-project-hosted-by-fwmbcc-women-s-bus-division-06-09-2016-2366
END:VEVENT

END:VCALENDAR
