BEGIN:VCALENDAR
VERSION:2.0
PRODID:-//ChamberMaster//Event Calendar 2.0//EN
METHOD:PUBLISH
X-PUBLISHED-TTL:P3D
REFRESH-INTERVAL:P3D
CALSCALE:GREGORIAN
BEGIN:VEVENT
DTSTART:20150818T224500Z
DTEND:20150819T004500Z
X-MICROSOFT-CDO-ALLDAYEVENT:FALSE
SUMMARY:Free Purpose Workshop
DESCRIPTION:This year do something important for you. Attend a free 2-hour Purpose Workshop presented by Blues Zones Project  and find your unique purpose. Having a sense of purpose is one of the nine principles followed by people who have lived the longest. Discover or re-discover your gifts and talents and learn how to navigate through life's transitional cycles. Click the link above to register. The password is: FW
X-ALT-DESC;FMTTYPE=text/html:This year do something important for you. Attend a free 2-hour Purpose Workshop presented by Blues Zones Project&reg\; and find your unique purpose. Having a sense of purpose is one of the nine principles followed by people who have lived the longest. Discover or re-discover your gifts and talents and learn how to navigate through life&#39\;s transitional cycles.&nbsp\;Click the link above to register. The password is: FW
LOCATION:Shamblee Library\, 1062 Evans Ave. Fort Worth TX 76104
UID:e.1262.2208
SEQUENCE:3
DTSTAMP:20260422T054733Z
URL:https://business.fwmbcc.org/events/details/free-purpose-workshop-08-18-2015-2208
END:VEVENT

END:VCALENDAR
