BEGIN:VCALENDAR
VERSION:2.0
PRODID:-//ChamberMaster//Event Calendar 2.0//EN
METHOD:PUBLISH
X-PUBLISHED-TTL:P3D
REFRESH-INTERVAL:P3D
CALSCALE:GREGORIAN
BEGIN:VEVENT
DTSTART:20190823T190000Z
DTEND:20190823T210000Z
X-MICROSOFT-CDO-ALLDAYEVENT:FALSE
SUMMARY:FREE OSHA Construction Safety Training – Fall Protection
DESCRIPTION:Fort Worth Metropolitan Black Chamber of Commerce &\n\nRegional Hispanic Contractors Association Presents:\n\n\n\nFREE OSHA Construction Safety Training   Fall Protection. Falls are the #1 cause of work place injuries and fatalities and Texas ranks #1 nationally for these incidences. Our goal is to eliminate these events through our training program.
X-ALT-DESC;FMTTYPE=text/html:<b style="color: rgb(34\, 34\, 34)\; font-family: Arial\, Helvetica\, sans-serif\; font-size: small\;"><span style="font-family: Arial\, sans-serif\; color: black\;">Fort Worth Metropolitan Black Chamber of Commerce &amp\;<br />\nRegional Hispanic Contractors Association Presents:</span></b><br />\n<br />\n<span style="color: rgb(34\, 34\, 34)\; font-family: Arial\, sans-serif\; font-size: small\;">FREE OSHA Construction Safety Training &ndash\; Fall Protection. Falls are the #1 cause of work place injuries and fatalities and Texas ranks #1 nationally for these incidences. Our goal is to eliminate these events through our training program.</span><br />\n<br />\n&nbsp\;
LOCATION:Business Assistance Center 1150 South Freeway Fort Worth\, TX 76104
UID:e.1262.4176
SEQUENCE:3
DTSTAMP:20260421T192324Z
URL:https://business.fwmbcc.org/events/details/free-osha-construction-safety-training-fall-protection-4176
END:VEVENT

END:VCALENDAR
