BEGIN:VCALENDAR
VERSION:2.0
PRODID:-//ChamberMaster//Event Calendar 2.0//EN
METHOD:PUBLISH
X-PUBLISHED-TTL:P3D
REFRESH-INTERVAL:P3D
CALSCALE:GREGORIAN
BEGIN:VEVENT
DTSTART:20151017T180000Z
DTEND:20151017T210000Z
X-MICROSOFT-CDO-ALLDAYEVENT:FALSE
SUMMARY:FREE FAMILY FESTIVAL
DESCRIPTION:Kimbell Art Museum -Free Family Festival\, Bella Italia -\n\nArt Making/Films/Tours/Performances
X-ALT-DESC;FMTTYPE=text/html:Kimbell Art Museum -Free Family Festival\, Bella Italia -<br />\nArt Making/Films/Tours/Performances
LOCATION:Kimbell Art Museum - 3333 Camp Bowie Blvd.\, Ft Worth TX
UID:e.1262.2276
SEQUENCE:3
DTSTAMP:20260422T105022Z
URL:https://business.fwmbcc.org/events/details/free-family-festival-10-17-2015-2276
END:VEVENT

END:VCALENDAR
